BEGIN:VCALENDAR
PRODID:-//eluceo/ical//2.0/EN
VERSION:2.0
CALSCALE:GREGORIAN
BEGIN:VEVENT
UID:0002b65a2102b05e484354b86238fc9f
DTSTAMP:20260423T054607Z
SUMMARY:[Frauen Landesliga] HSG Schönbuch  - CVJM SG Mössingen/Belsen 
URL:https://www.eichenkreuzliga.de/handball/game/id/11626
DTSTART:20210417T170000
DTEND:20210417T180000
LOCATION:Schönbuch-Sporthalle\, 71088 Holzgerlingen
END:VEVENT
BEGIN:VEVENT
UID:f4ddc4e8e0772a933e41109adad9aa02
DTSTAMP:20260423T054607Z
SUMMARY:[Frauen Landesliga] CVJM HB Dußlingen-Gomaringen 1 - CVJM Mögling
 en 
URL:https://www.eichenkreuzliga.de/handball/game/id/11628
DTSTART:20210418T183000
DTEND:20210418T193000
LOCATION:Hönisch Sporthalle\, 72144 Dusslingen
END:VEVENT
BEGIN:VEVENT
UID:3835aa05a479aca7c11f7a213b776ba4
DTSTAMP:20260423T054607Z
SUMMARY:[Frauen Landesliga] CVJM  Walddorfhäslach  - EK Bernhausen 
URL:https://www.eichenkreuzliga.de/handball/game/id/11629
DTSTART:20210418T150000
DTEND:20210418T160000
LOCATION:Ballspielhalle\, 72141 Walddorfhäslach
END:VEVENT
BEGIN:VEVENT
UID:fba3c826e04aabd3fbffb7fd6ab8ab75
DTSTAMP:20260423T054607Z
SUMMARY:[Frauen Landesliga] CVJM Möglingen  - CVJM HB Dußlingen-Gomaringe
 n 1
URL:https://www.eichenkreuzliga.de/handball/game/id/11631
DTSTART:20201212T160000
DTEND:20201212T170000
LOCATION:Stadionhalle\, 71696 Möglingen
END:VEVENT
BEGIN:VEVENT
UID:e8a345aca34331baab45845189cce652
DTSTAMP:20260423T054607Z
SUMMARY:[Frauen Landesliga] CVJM  Walddorfhäslach  - CVJM Möglingen 
URL:https://www.eichenkreuzliga.de/handball/game/id/11633
DTSTART:20201011T161500
DTEND:20201011T171500
LOCATION:Ballspielhalle\, 72141 Walddorfhäslach
END:VEVENT
BEGIN:VEVENT
UID:97ff88478c1b118999caa42f2e53037b
DTSTAMP:20260423T054607Z
SUMMARY:[Frauen Landesliga] CVJM SG Mössingen/Belsen  - HSG Schönbuch 
URL:https://www.eichenkreuzliga.de/handball/game/id/11634
DTSTART:20201010T170000
DTEND:20201010T180000
LOCATION:Jahnhalle 2\, 72116 Mössingen
END:VEVENT
BEGIN:VEVENT
UID:01cbd55a321123fa274d5df0dc6f8920
DTSTAMP:20260423T054607Z
SUMMARY:[Frauen Landesliga] CVJM Möglingen  - CVJM SG Mössingen/Belsen 
URL:https://www.eichenkreuzliga.de/handball/game/id/11635
DTSTART:20201017T140000
DTEND:20201017T150000
LOCATION:Stadionhalle\, 71696 Möglingen
END:VEVENT
BEGIN:VEVENT
UID:6c190e9e94168f2cfce4b994f2b969f7
DTSTAMP:20260423T054607Z
SUMMARY:[Frauen Landesliga] HSG Schönbuch  - CVJM  Walddorfhäslach 
URL:https://www.eichenkreuzliga.de/handball/game/id/11636
DTSTART:20201018T170000
DTEND:20201018T180000
LOCATION:Schönbuch-Sporthalle\, 71088 Holzgerlingen
END:VEVENT
BEGIN:VEVENT
UID:fecba78d7254f4674e666af27e6c9e84
DTSTAMP:20260423T054607Z
SUMMARY:[Frauen Landesliga] CVJM SG Mössingen/Belsen  - CVJM Möglingen 
URL:https://www.eichenkreuzliga.de/handball/game/id/11637
DTSTART:20210131T143000
DTEND:20210131T153000
LOCATION:Jahnhalle 2\, 72116 Mössingen
END:VEVENT
BEGIN:VEVENT
UID:327cb29dbdca0871e9fa635813986a30
DTSTAMP:20260423T054607Z
SUMMARY:[Frauen Landesliga] HSG Schönbuch  - EK Bernhausen 
URL:https://www.eichenkreuzliga.de/handball/game/id/11638
DTSTART:20201107T143000
DTEND:20201107T153000
LOCATION:Schönbuch-Sporthalle\, 71088 Holzgerlingen
END:VEVENT
BEGIN:VEVENT
UID:1e250c124e1f785bbb472b2f598ed9df
DTSTAMP:20260423T054607Z
SUMMARY:[Frauen Landesliga] EK Bernhausen  - HSG Schönbuch 
URL:https://www.eichenkreuzliga.de/handball/game/id/11639
DTSTART:20210306T153000
DTEND:20210306T163000
LOCATION:Elisabeth-Selbert-Gymnasium Halle\, 70794 Bernhausen
END:VEVENT
BEGIN:VEVENT
UID:10f31c91bdef44dbab73f5f7a3bc9009
DTSTAMP:20260423T054607Z
SUMMARY:[Frauen Landesliga] CVJM  Walddorfhäslach  - CVJM HB Dußlingen-Go
 maringen 1
URL:https://www.eichenkreuzliga.de/handball/game/id/11640
DTSTART:20201115T190000
DTEND:20201115T200000
LOCATION:Ballspielhalle\, 72141 Walddorfhäslach
END:VEVENT
BEGIN:VEVENT
UID:d092c18f476bfa8452f25c71b023b0d7
DTSTAMP:20260423T054607Z
SUMMARY:[Frauen Landesliga] CVJM Möglingen  - HSG Schönbuch 
URL:https://www.eichenkreuzliga.de/handball/game/id/11641
DTSTART:20201114T163000
DTEND:20201114T173000
LOCATION:Stadionhalle\, 71696 Möglingen
END:VEVENT
BEGIN:VEVENT
UID:33e92174eac84ca60e3cd63af7249e98
DTSTAMP:20260423T054607Z
SUMMARY:[Frauen Landesliga] CVJM SG Mössingen/Belsen  - EK Bernhausen 
URL:https://www.eichenkreuzliga.de/handball/game/id/11642
DTSTART:20201114T160000
DTEND:20201114T170000
LOCATION:Jahnhalle 2\, 72116 Mössingen
END:VEVENT
BEGIN:VEVENT
UID:03bf2ce0d5b6c561cd01ba0f1fee2307
DTSTAMP:20260423T054607Z
SUMMARY:[Frauen Landesliga] HSG Schönbuch  - CVJM Möglingen 
URL:https://www.eichenkreuzliga.de/handball/game/id/11644
DTSTART:20210313T170000
DTEND:20210313T180000
LOCATION:Schönbuch-Sporthalle\, 71088 Holzgerlingen
END:VEVENT
BEGIN:VEVENT
UID:fdef19e8f0b9fc2a1347b899b1936071
DTSTAMP:20260423T054607Z
SUMMARY:[Frauen Landesliga] EK Bernhausen  - CVJM SG Mössingen/Belsen 
URL:https://www.eichenkreuzliga.de/handball/game/id/11645
DTSTART:20210320T153000
DTEND:20210320T163000
LOCATION:Elisabeth-Selbert-Gymnasium Halle\, 70794 Bernhausen
END:VEVENT
BEGIN:VEVENT
UID:76fb104610ad65c69efc4c626578402d
DTSTAMP:20260423T054607Z
SUMMARY:[Frauen Landesliga] CVJM  Walddorfhäslach  - CVJM SG Mössingen/Be
 lsen 
URL:https://www.eichenkreuzliga.de/handball/game/id/11646
DTSTART:20201121T194500
DTEND:20201121T204500
LOCATION:Ballspielhalle\, 72141 Walddorfhäslach
END:VEVENT
BEGIN:VEVENT
UID:ab4bfa999ae68d34c6b762076086ba43
DTSTAMP:20260423T054607Z
SUMMARY:[Frauen Landesliga] CVJM HB Dußlingen-Gomaringen 1 - HSG Schönbuc
 h 
URL:https://www.eichenkreuzliga.de/handball/game/id/11647
DTSTART:20201121T200000
DTEND:20201121T210000
LOCATION:Hönisch Sporthalle\, 72144 Dusslingen
END:VEVENT
BEGIN:VEVENT
UID:dbb7aab4fe9b6d340fad1f641ed24d7c
DTSTAMP:20260423T054607Z
SUMMARY:[Frauen Landesliga] EK Bernhausen  - CVJM Möglingen 
URL:https://www.eichenkreuzliga.de/handball/game/id/11648
DTSTART:20201121T200000
DTEND:20201121T210000
LOCATION:Elisabeth-Selbert-Gymnasium Halle\, 70794 Bernhausen
END:VEVENT
BEGIN:VEVENT
UID:3b3d7f859ec27aa9801396d5a6ef0ca3
DTSTAMP:20260423T054607Z
SUMMARY:[Frauen Landesliga] CVJM SG Mössingen/Belsen  - CVJM  Walddorfhäs
 lach 
URL:https://www.eichenkreuzliga.de/handball/game/id/11649
DTSTART:20210314T170000
DTEND:20210314T180000
LOCATION:Jahnhalle 2\, 72116 Mössingen
END:VEVENT
BEGIN:VEVENT
UID:4d060b0a36acdc2169dc5bb3843f4619
DTSTAMP:20260423T054607Z
SUMMARY:[Frauen Landesliga] HSG Schönbuch  - CVJM HB Dußlingen-Gomaringen
  1
URL:https://www.eichenkreuzliga.de/handball/game/id/11650
DTSTART:20210327T143000
DTEND:20210327T153000
LOCATION:Schönbuch-Sporthalle\, 71088 Holzgerlingen
END:VEVENT
BEGIN:VEVENT
UID:1352da809dc2b9feb38535a27e7a2484
DTSTAMP:20260423T054607Z
SUMMARY:[Frauen Landesliga] CVJM HB Dußlingen-Gomaringen 1 - CVJM SG Möss
 ingen/Belsen 
URL:https://www.eichenkreuzliga.de/handball/game/id/11652
DTSTART:20201206T170000
DTEND:20201206T180000
LOCATION:Hönisch Sporthalle\, 72144 Dusslingen
END:VEVENT
BEGIN:VEVENT
UID:e9e1246daf677c29d59a2497f4426853
DTSTAMP:20260423T054607Z
SUMMARY:[Frauen Landesliga] CVJM SG Mössingen/Belsen  - CVJM HB Dußlingen
 -Gomaringen 1
URL:https://www.eichenkreuzliga.de/handball/game/id/11653
DTSTART:20210123T170000
DTEND:20210123T180000
LOCATION:Jahnhalle 2\, 72116 Mössingen
END:VEVENT
BEGIN:VEVENT
UID:707f9978c94a59b04defd0c27c59d314
DTSTAMP:20260423T054607Z
SUMMARY:[Frauen Landesliga] EK Bernhausen  - CVJM HB Dußlingen-Gomaringen 
 1
URL:https://www.eichenkreuzliga.de/handball/game/id/11654
DTSTART:20210116T133000
DTEND:20210116T143000
LOCATION:Elisabeth-Selbert-Gymnasium Halle\, 70794 Bernhausen
END:VEVENT
BEGIN:VEVENT
UID:e1e21466068d8eaad858a2827dba4c47
DTSTAMP:20260423T054607Z
SUMMARY:[Frauen Landesliga] CVJM HB Dußlingen-Gomaringen 1 - EK Bernhausen
  
URL:https://www.eichenkreuzliga.de/handball/game/id/11655
DTSTART:20210314T183000
DTEND:20210314T193000
LOCATION:Hönisch Sporthalle\, 72144 Dusslingen
END:VEVENT
BEGIN:VEVENT
UID:165adf22a8b9c77fdd00d5403aa9ee6a
DTSTAMP:20260423T054607Z
SUMMARY:[Frauen Landesliga] CVJM HB Dußlingen-Gomaringen 1 - CVJM  Walddor
 fhäslach 
URL:https://www.eichenkreuzliga.de/handball/game/id/11656
DTSTART:20210306T180000
DTEND:20210306T190000
LOCATION:Hönisch Sporthalle\, 72144 Dusslingen
END:VEVENT
BEGIN:VEVENT
UID:d0cab5b812d1285bfff2aa38e7d54cab
DTSTAMP:20260423T054607Z
SUMMARY:[Frauen Landesliga] CVJM Möglingen  - CVJM  Walddorfhäslach 
URL:https://www.eichenkreuzliga.de/handball/game/id/11657
DTSTART:20210206T180000
DTEND:20210206T190000
LOCATION:Stadionhalle\, 71696 Möglingen
END:VEVENT
BEGIN:VEVENT
UID:a8be8deae9f0e24ca7c5a4807d6b1574
DTSTAMP:20260423T054607Z
SUMMARY:[Frauen Landesliga] CVJM Möglingen  - EK Bernhausen 
URL:https://www.eichenkreuzliga.de/handball/game/id/11658
DTSTART:20210227T180000
DTEND:20210227T190000
LOCATION:Stadionhalle\, 71696 Möglingen
END:VEVENT
BEGIN:VEVENT
UID:6f79726c4632d09e45aa59cf1704066a
DTSTAMP:20260423T054607Z
SUMMARY:[Frauen Landesliga] CVJM  Walddorfhäslach  - HSG Schönbuch 
URL:https://www.eichenkreuzliga.de/handball/game/id/11660
DTSTART:20210124T150000
DTEND:20210124T160000
LOCATION:Ballspielhalle\, 72141 Walddorfhäslach
END:VEVENT
BEGIN:VEVENT
UID:a27baed34733f232901030570d868baa
DTSTAMP:20260423T054607Z
SUMMARY:[Frauen Landesliga] EK Bernhausen  - CVJM  Walddorfhäslach 
URL:https://www.eichenkreuzliga.de/handball/game/id/11661
DTSTART:20210130T153000
DTEND:20210130T163000
LOCATION:Elisabeth-Selbert-Gymnasium Halle\, 70794 Bernhausen
END:VEVENT
END:VCALENDAR
