BEGIN:VCALENDAR
PRODID:-//eluceo/ical//2.0/EN
VERSION:2.0
CALSCALE:GREGORIAN
BEGIN:VEVENT
UID:84833dead970f529f958c5bb4d61d26c
DTSTAMP:20260423T034632Z
SUMMARY:[Männer Landesliga] CVJM Hagelloch - Kusterdingen 1 - CVJM  Walddo
 rfhäslach 
URL:https://www.eichenkreuzliga.de/handball/game/id/12482
DTSTART:20201108T181500
DTEND:20201108T191500
LOCATION:Sporthalle Waldhäuser-Ost\, 72076 Tübingen
END:VEVENT
BEGIN:VEVENT
UID:1267b52d1faf0f93b014a00f76c91bf9
DTSTAMP:20260423T034632Z
SUMMARY:[Männer Landesliga] CVJM Hagelloch - Kusterdingen 1 - CVJM Flacht 
URL:https://www.eichenkreuzliga.de/handball/game/id/12483
DTSTART:20201114T180000
DTEND:20201114T190000
LOCATION:Kreissporthalle Tübingen\, 72072 Tübingen
END:VEVENT
BEGIN:VEVENT
UID:d794ba9203c71f43fbf93008b331ccae
DTSTAMP:20260423T034632Z
SUMMARY:[Männer Landesliga] CVJM Hagelloch - Kusterdingen 1 - CVJM Möglin
 gen 
URL:https://www.eichenkreuzliga.de/handball/game/id/12485
DTSTART:20210123T190000
DTEND:20210123T200000
LOCATION:Sporthalle Waldhäuser-Ost\, 72076 Tübingen
END:VEVENT
BEGIN:VEVENT
UID:35a028803b3957264dbe75c75b837f03
DTSTAMP:20260423T034632Z
SUMMARY:[Männer Landesliga] CVJM Hagelloch - Kusterdingen 1 - EK Höfingen
  
URL:https://www.eichenkreuzliga.de/handball/game/id/12487
DTSTART:20210320T180000
DTEND:20210320T190000
LOCATION:Sporthalle Waldhäuser-Ost\, 72076 Tübingen
END:VEVENT
BEGIN:VEVENT
UID:75e5ca1dd2456432810ba1c994222898
DTSTAMP:20260423T034632Z
SUMMARY:[Männer Landesliga] CVJM Hagelloch - Kusterdingen 1 - EK Köngen 
URL:https://www.eichenkreuzliga.de/handball/game/id/12488
DTSTART:20201129T180000
DTEND:20201129T190000
LOCATION:Kreissporthalle Tübingen\, 72072 Tübingen
END:VEVENT
BEGIN:VEVENT
UID:afc12e815397ba6031cbc4905b1ffceb
DTSTAMP:20260423T034632Z
SUMMARY:[Männer Landesliga] CVJM Hagelloch - Kusterdingen 1 - CVJM HB Duß
 lingen-Gomaringen 
URL:https://www.eichenkreuzliga.de/handball/game/id/12489
DTSTART:20210314T180000
DTEND:20210314T190000
LOCATION:Sporthalle Waldhäuser-Ost\, 72076 Tübingen
END:VEVENT
BEGIN:VEVENT
UID:df06418e4a6cf8c2f8e919c065dcdd59
DTSTAMP:20260423T034632Z
SUMMARY:[Männer Landesliga] CVJM HB Dußlingen-Gomaringen  - EK Köngen 
URL:https://www.eichenkreuzliga.de/handball/game/id/12493
DTSTART:20210424T180000
DTEND:20210424T190000
LOCATION:Hönisch Sporthalle\, 72144 Dusslingen
END:VEVENT
BEGIN:VEVENT
UID:fb8771db3082557a8ed4589ecacf2119
DTSTAMP:20260423T034632Z
SUMMARY:[Männer Landesliga] CVJM Möglingen  - CVJM Hagelloch - Kusterding
 en 1
URL:https://www.eichenkreuzliga.de/handball/game/id/12494
DTSTART:20210424T180000
DTEND:20210424T190000
LOCATION:Stadionhalle\, 71696 Möglingen
END:VEVENT
BEGIN:VEVENT
UID:73b02879dd8f784337150bbe175e48c1
DTSTAMP:20260423T034632Z
SUMMARY:[Männer Landesliga] EK Höfingen  - CVJM Hagelloch - Kusterdingen 
 1
URL:https://www.eichenkreuzliga.de/handball/game/id/12495
DTSTART:20210417T173000
DTEND:20210417T183000
LOCATION:Strohgäuhalle\, 71229 Höfingen
END:VEVENT
BEGIN:VEVENT
UID:42c2665b7447ca4fbc84d201a0c0e7cc
DTSTAMP:20260423T034632Z
SUMMARY:[Männer Landesliga] CVJM  Walddorfhäslach  - CVJM Hagelloch - Kus
 terdingen 1
URL:https://www.eichenkreuzliga.de/handball/game/id/12497
DTSTART:20210213T190000
DTEND:20210213T200000
LOCATION:Ballspielhalle\, 72141 Walddorfhäslach
END:VEVENT
BEGIN:VEVENT
UID:f6fc11b27fbf50291b058e50b23dbf5f
DTSTAMP:20260423T034632Z
SUMMARY:[Männer Landesliga] CVJM  Walddorfhäslach  - CVJM Möglingen 
URL:https://www.eichenkreuzliga.de/handball/game/id/12500
DTSTART:20210307T180000
DTEND:20210307T190000
LOCATION:Ballspielhalle\, 72141 Walddorfhäslach
END:VEVENT
BEGIN:VEVENT
UID:9e1a913c3f56b1cfa8b88c1fdcbe1dbb
DTSTAMP:20260423T034632Z
SUMMARY:[Männer Landesliga] CVJM SG Mössingen/Belsen  - CVJM  Walddorfhä
 slach 
URL:https://www.eichenkreuzliga.de/handball/game/id/12501
DTSTART:20210131T183000
DTEND:20210131T193000
LOCATION:Jahnhalle 2\, 72116 Mössingen
END:VEVENT
BEGIN:VEVENT
UID:5c19e3f4597f1c144ba812a48a46ffc9
DTSTAMP:20260423T034632Z
SUMMARY:[Männer Landesliga] CVJM  Walddorfhäslach  - EK Köngen 
URL:https://www.eichenkreuzliga.de/handball/game/id/12503
DTSTART:20201114T180000
DTEND:20201114T190000
LOCATION:Ballspielhalle\, 72141 Walddorfhäslach
END:VEVENT
BEGIN:VEVENT
UID:cfb0d312a9aace9ef79d963c965651eb
DTSTAMP:20260423T034632Z
SUMMARY:[Männer Landesliga] EK Köngen  - CVJM  Walddorfhäslach 
URL:https://www.eichenkreuzliga.de/handball/game/id/12504
DTSTART:20201017T170000
DTEND:20201017T180000
LOCATION:Burgschulhalle\, 73257 Köngen
END:VEVENT
BEGIN:VEVENT
UID:2075aacf2136bac40135b29c9f03af7e
DTSTAMP:20260423T034632Z
SUMMARY:[Männer Landesliga] EK Köngen  - CVJM Hagelloch - Kusterdingen 1
URL:https://www.eichenkreuzliga.de/handball/game/id/12506
DTSTART:20201121T201500
DTEND:20201121T211500
LOCATION:Burgschulhalle\, 73257 Köngen
END:VEVENT
BEGIN:VEVENT
UID:823a9f361f275cac640346934b41435e
DTSTAMP:20260423T034632Z
SUMMARY:[Männer Landesliga] EK Köngen  - CVJM Möglingen 
URL:https://www.eichenkreuzliga.de/handball/game/id/12507
DTSTART:20210327T190000
DTEND:20210327T200000
LOCATION:Burgschulhalle\, 73257 Köngen
END:VEVENT
BEGIN:VEVENT
UID:760bd50e18733e3e4f771002c3f72abf
DTSTAMP:20260423T034632Z
SUMMARY:[Männer Landesliga] EK Köngen  - CVJM SG Mössingen/Belsen 
URL:https://www.eichenkreuzliga.de/handball/game/id/12510
DTSTART:20210123T180000
DTEND:20210123T190000
LOCATION:Burgschulhalle\, 73257 Köngen
END:VEVENT
BEGIN:VEVENT
UID:43b1b87b2368bac19c30931aa9b3d921
DTSTAMP:20260423T034632Z
SUMMARY:[Männer Landesliga] CVJM Flacht  - CVJM Hagelloch - Kusterdingen 1
URL:https://www.eichenkreuzliga.de/handball/game/id/12511
DTSTART:20210130T160000
DTEND:20210130T170000
LOCATION:Sporthalle Flacht\, 71287 Weissach
END:VEVENT
BEGIN:VEVENT
UID:a07efa793c6ce10c6d89e7b4e25a36b6
DTSTAMP:20260423T034632Z
SUMMARY:[Männer Landesliga] CVJM HB Dußlingen-Gomaringen  - CVJM Hagelloc
 h - Kusterdingen 1
URL:https://www.eichenkreuzliga.de/handball/game/id/12512
DTSTART:20210116T200000
DTEND:20210116T210000
LOCATION:Hönisch Sporthalle\, 72144 Dusslingen
END:VEVENT
BEGIN:VEVENT
UID:cd10c7bc1c216c7e9d924b734b69641f
DTSTAMP:20260423T034632Z
SUMMARY:[Männer Landesliga] CVJM Flacht  - CVJM  Walddorfhäslach 
URL:https://www.eichenkreuzliga.de/handball/game/id/12514
DTSTART:20210227T160000
DTEND:20210227T170000
LOCATION:Sporthalle Flacht\, 71287 Weissach
END:VEVENT
BEGIN:VEVENT
UID:16264c34884cdc38e52118108618ccab
DTSTAMP:20260423T034632Z
SUMMARY:[Männer Landesliga] EK Höfingen  - CVJM  Walddorfhäslach 
URL:https://www.eichenkreuzliga.de/handball/game/id/12520
DTSTART:20210313T180000
DTEND:20210313T190000
LOCATION:Strohgäuhalle\, 71229 Höfingen
END:VEVENT
BEGIN:VEVENT
UID:03134c0fa476397c40129c21914188da
DTSTAMP:20260423T034632Z
SUMMARY:[Männer Landesliga] CVJM Flacht  - EK Köngen 
URL:https://www.eichenkreuzliga.de/handball/game/id/12522
DTSTART:20210306T160000
DTEND:20210306T170000
LOCATION:Sporthalle Flacht\, 71287 Weissach
END:VEVENT
BEGIN:VEVENT
UID:2d32e96eec3bfdd113d406af4bcce1a7
DTSTAMP:20260423T034632Z
SUMMARY:[Männer Landesliga] CVJM Flacht  - CVJM HB Dußlingen-Gomaringen 
URL:https://www.eichenkreuzliga.de/handball/game/id/12523
DTSTART:20210123T180000
DTEND:20210123T190000
LOCATION:Sporthalle Flacht\, 71287 Weissach
END:VEVENT
BEGIN:VEVENT
UID:0e123f3876d392233cf2b5d1c1df867b
DTSTAMP:20260423T034632Z
SUMMARY:[Männer Landesliga] CVJM HB Dußlingen-Gomaringen  - CVJM Flacht 
URL:https://www.eichenkreuzliga.de/handball/game/id/12524
DTSTART:20210328T190000
DTEND:20210328T200000
LOCATION:Hönisch Sporthalle\, 72144 Dusslingen
END:VEVENT
BEGIN:VEVENT
UID:1a985f4512250d2c183707bec9c93b82
DTSTAMP:20260423T034632Z
SUMMARY:[Männer Landesliga] CVJM Flacht  - CVJM Möglingen 
URL:https://www.eichenkreuzliga.de/handball/game/id/12525
DTSTART:20201121T160000
DTEND:20201121T170000
LOCATION:Sporthalle Flacht\, 71287 Weissach
END:VEVENT
BEGIN:VEVENT
UID:6e8a86e69de4b6f358ce55d5aa4c2996
DTSTAMP:20260423T034632Z
SUMMARY:[Männer Landesliga] CVJM Flacht  - CVJM SG Mössingen/Belsen 
URL:https://www.eichenkreuzliga.de/handball/game/id/12530
DTSTART:20201219T170000
DTEND:20201219T180000
LOCATION:Sporthalle Flacht\, 71287 Weissach
END:VEVENT
BEGIN:VEVENT
UID:0bd5fe70d80ffccb7143ad80099fc4e4
DTSTAMP:20260423T034632Z
SUMMARY:[Männer Landesliga] CVJM SG Mössingen/Belsen  - CVJM Hagelloch - 
 Kusterdingen 1
URL:https://www.eichenkreuzliga.de/handball/game/id/12531
DTSTART:20210327T180000
DTEND:20210327T190000
LOCATION:Jahnhalle 2\, 72116 Mössingen
END:VEVENT
BEGIN:VEVENT
UID:89469c301e4be14edd4908e023d82591
DTSTAMP:20260423T034632Z
SUMMARY:[Männer Landesliga] CVJM Hagelloch - Kusterdingen 1 - CVJM SG Mös
 singen/Belsen 
URL:https://www.eichenkreuzliga.de/handball/game/id/12534
DTSTART:20210207T190000
DTEND:20210207T200000
LOCATION:Paul-Horn-Arena\, 72072 Tübingen
END:VEVENT
BEGIN:VEVENT
UID:de46ed2cac17b66b02530c85fe7cb6ec
DTSTAMP:20260423T034632Z
SUMMARY:[Männer Landesliga] CVJM Möglingen  - CVJM HB Dußlingen-Gomaring
 en 
URL:https://www.eichenkreuzliga.de/handball/game/id/12535
DTSTART:20201017T180000
DTEND:20201017T190000
LOCATION:Stadionhalle\, 71696 Möglingen
END:VEVENT
BEGIN:VEVENT
UID:b26faba9bcf105541044a4e9941d47d4
DTSTAMP:20260423T034632Z
SUMMARY:[Männer Landesliga] CVJM HB Dußlingen-Gomaringen  - CVJM Mögling
 en 
URL:https://www.eichenkreuzliga.de/handball/game/id/12536
DTSTART:20210131T183000
DTEND:20210131T193000
LOCATION:Hönisch Sporthalle\, 72144 Dusslingen
END:VEVENT
BEGIN:VEVENT
UID:cacdf20aaf60cf500e6fcccb98fe67ff
DTSTAMP:20260423T034632Z
SUMMARY:[Männer Landesliga] CVJM HB Dußlingen-Gomaringen  - CVJM SG Möss
 ingen/Belsen 
URL:https://www.eichenkreuzliga.de/handball/game/id/12538
DTSTART:20210306T200000
DTEND:20210306T210000
LOCATION:Hönisch Sporthalle\, 72144 Dusslingen
END:VEVENT
BEGIN:VEVENT
UID:c090d7b0c108bae1dd144a2f04f4b2fa
DTSTAMP:20260423T034632Z
SUMMARY:[Männer Landesliga] EK Höfingen  - CVJM HB Dußlingen-Gomaringen 
URL:https://www.eichenkreuzliga.de/handball/game/id/12539
DTSTART:20201024T180000
DTEND:20201024T190000
LOCATION:Strohgäuhalle\, 71229 Höfingen
END:VEVENT
BEGIN:VEVENT
UID:685d00d4ed8354057657e0231872ac88
DTSTAMP:20260423T034632Z
SUMMARY:[Männer Landesliga] CVJM HB Dußlingen-Gomaringen  - EK Höfingen 
URL:https://www.eichenkreuzliga.de/handball/game/id/12540
DTSTART:20210207T183000
DTEND:20210207T193000
LOCATION:Hönisch Sporthalle\, 72144 Dusslingen
END:VEVENT
BEGIN:VEVENT
UID:c5e82b8f6ac98ec6f0e75c1d8d494049
DTSTAMP:20260423T034632Z
SUMMARY:[Männer Landesliga] EK Köngen  - CVJM HB Dußlingen-Gomaringen 
URL:https://www.eichenkreuzliga.de/handball/game/id/12541
DTSTART:20201107T200000
DTEND:20201107T210000
LOCATION:Burgschulhalle\, 73257 Köngen
END:VEVENT
BEGIN:VEVENT
UID:c4bc8aaee8ade92c07eff46149c0fd93
DTSTAMP:20260423T034632Z
SUMMARY:[Männer Landesliga] CVJM Möglingen  - CVJM SG Mössingen/Belsen 
URL:https://www.eichenkreuzliga.de/handball/game/id/12542
DTSTART:20210410T173000
DTEND:20210410T183000
LOCATION:Stadionhalle\, 71696 Möglingen
END:VEVENT
BEGIN:VEVENT
UID:57cd551fcb74f7d15e5f31586dce9f8f
DTSTAMP:20260423T034632Z
SUMMARY:[Männer Landesliga] CVJM SG Mössingen/Belsen  - CVJM Möglingen 
URL:https://www.eichenkreuzliga.de/handball/game/id/12543
DTSTART:20201114T200000
DTEND:20201114T210000
LOCATION:Jahnhalle 2\, 72116 Mössingen
END:VEVENT
BEGIN:VEVENT
UID:88997a45d49c37d118f0cb2a9a050811
DTSTAMP:20260423T034632Z
SUMMARY:[Männer Landesliga] EK Höfingen  - CVJM Möglingen 
URL:https://www.eichenkreuzliga.de/handball/game/id/12545
DTSTART:20210227T180000
DTEND:20210227T190000
LOCATION:Strohgäuhalle\, 71229 Höfingen
END:VEVENT
BEGIN:VEVENT
UID:d75fec969b35809eac396ef0b1d83936
DTSTAMP:20260423T034632Z
SUMMARY:[Männer Landesliga] EK Höfingen  - EK Köngen 
URL:https://www.eichenkreuzliga.de/handball/game/id/12546
DTSTART:20210130T180000
DTEND:20210130T190000
LOCATION:Strohgäuhalle\, 71229 Höfingen
END:VEVENT
BEGIN:VEVENT
UID:92d3eaafa217ad0f2a8407001210e6bb
DTSTAMP:20260423T034632Z
SUMMARY:[Männer Landesliga] CVJM SG Mössingen/Belsen  - EK Köngen 
URL:https://www.eichenkreuzliga.de/handball/game/id/12547
DTSTART:20210227T190000
DTEND:20210227T200000
LOCATION:Jahnhalle 2\, 72116 Mössingen
END:VEVENT
BEGIN:VEVENT
UID:04952b5eb5cff366c2de332682eaece5
DTSTAMP:20260423T034632Z
SUMMARY:[Männer Landesliga] CVJM  Walddorfhäslach  - CVJM Flacht 
URL:https://www.eichenkreuzliga.de/handball/game/id/13014
DTSTART:20210502T170000
DTEND:20210502T180000
LOCATION:Ballspielhalle\, 72141 Walddorfhäslach
END:VEVENT
BEGIN:VEVENT
UID:76c838742265828a9ef2c53cb9e59f16
DTSTAMP:20260423T034632Z
SUMMARY:[Männer Landesliga] CVJM Möglingen  - CVJM Flacht 
URL:https://www.eichenkreuzliga.de/handball/game/id/13015
DTSTART:20210320T180000
DTEND:20210320T190000
LOCATION:Stadionhalle\, 71696 Möglingen
END:VEVENT
BEGIN:VEVENT
UID:7046207e2345b0696a7ca7f7d7f65971
DTSTAMP:20260423T034632Z
SUMMARY:[Männer Landesliga] CVJM Möglingen  - EK Köngen 
URL:https://www.eichenkreuzliga.de/handball/game/id/13016
DTSTART:20210501T180000
DTEND:20210501T190000
LOCATION:Stadionhalle\, 71696 Möglingen
END:VEVENT
BEGIN:VEVENT
UID:6528a4502fa0dd702b08aa41ee9b4b79
DTSTAMP:20260423T034632Z
SUMMARY:[Männer Landesliga] EK Höfingen  - CVJM SG Mössingen/Belsen 
URL:https://www.eichenkreuzliga.de/handball/game/id/13019
DTSTART:20201121T170000
DTEND:20201121T180000
LOCATION:Strohgäuhalle\, 71229 Höfingen
END:VEVENT
BEGIN:VEVENT
UID:40648299d7849c0f7619c245cecba359
DTSTAMP:20260423T034632Z
SUMMARY:[Männer Landesliga] CVJM SG Mössingen/Belsen  - CVJM Flacht 
URL:https://www.eichenkreuzliga.de/handball/game/id/13053
DTSTART:20201018T180000
DTEND:20201018T190000
LOCATION:Jahnhalle 2\, 72116 Mössingen
END:VEVENT
BEGIN:VEVENT
UID:43ebf956cf781561094df28cc6f95e71
DTSTAMP:20260423T034632Z
SUMMARY:[Männer Landesliga] CVJM SG Mössingen/Belsen  - CVJM HB Dußlinge
 n-Gomaringen 
URL:https://www.eichenkreuzliga.de/handball/game/id/13055
DTSTART:20210418T180000
DTEND:20210418T190000
LOCATION:Jahnhalle 2\, 72116 Mössingen
END:VEVENT
BEGIN:VEVENT
UID:a6f322a1d45f97d635a25eb33957a128
DTSTAMP:20260423T034632Z
SUMMARY:[Männer Landesliga] CVJM SG Mössingen/Belsen  - EK Höfingen 
URL:https://www.eichenkreuzliga.de/handball/game/id/13056
DTSTART:20210424T180000
DTEND:20210424T190000
LOCATION:Jahnhalle 2\, 72116 Mössingen
END:VEVENT
BEGIN:VEVENT
UID:c66d3f67bf3084d5f7cc251e4a4a7ef4
DTSTAMP:20260423T034632Z
SUMMARY:[Männer Landesliga] CVJM Flacht  - EK Höfingen 
URL:https://www.eichenkreuzliga.de/handball/game/id/13102
DTSTART:20201205T180000
DTEND:20201205T190000
LOCATION:Sporthalle Flacht\, 71287 Weissach
END:VEVENT
BEGIN:VEVENT
UID:2053623de4043153a446950afd3c56b8
DTSTAMP:20260423T034632Z
SUMMARY:[Männer Landesliga] EK Köngen  - CVJM Flacht 
URL:https://www.eichenkreuzliga.de/handball/game/id/13103
DTSTART:20210207T190000
DTEND:20210207T200000
LOCATION:Burgschulhalle\, 73257 Köngen
END:VEVENT
BEGIN:VEVENT
UID:d0f418461aba1358ed3a44a8249d0d01
DTSTAMP:20260423T034632Z
SUMMARY:[Männer Landesliga] EK Köngen  - EK Höfingen 
URL:https://www.eichenkreuzliga.de/handball/game/id/13104
DTSTART:20201212T183000
DTEND:20201212T193000
LOCATION:Burgschulhalle\, 73257 Köngen
END:VEVENT
BEGIN:VEVENT
UID:d0aa6838f5f82cac594ad6fca654ec3a
DTSTAMP:20260423T034632Z
SUMMARY:[Männer Landesliga] CVJM  Walddorfhäslach  - EK Höfingen 
URL:https://www.eichenkreuzliga.de/handball/game/id/13107
DTSTART:20210124T170000
DTEND:20210124T180000
LOCATION:Ballspielhalle\, 72141 Walddorfhäslach
END:VEVENT
BEGIN:VEVENT
UID:d740435b0f2f42d3ff9a26510e125178
DTSTAMP:20260423T034632Z
SUMMARY:[Männer Landesliga] EK Höfingen  - CVJM Flacht 
URL:https://www.eichenkreuzliga.de/handball/game/id/13111
DTSTART:20201107T200000
DTEND:20201107T210000
LOCATION:Strohgäuhalle\, 71229 Höfingen
END:VEVENT
BEGIN:VEVENT
UID:14e9c8dfa46de2aac8c7b7d647bc37fe
DTSTAMP:20260423T034632Z
SUMMARY:[Männer Landesliga] CVJM Möglingen  - EK Höfingen 
URL:https://www.eichenkreuzliga.de/handball/game/id/13113
DTSTART:20201128T180000
DTEND:20201128T190000
LOCATION:Stadionhalle\, 71696 Möglingen
END:VEVENT
BEGIN:VEVENT
UID:0bf7dcf552ccc05091201ddee74f36dc
DTSTAMP:20260423T034632Z
SUMMARY:[Männer Landesliga] CVJM Möglingen  - CVJM  Walddorfhäslach 
URL:https://www.eichenkreuzliga.de/handball/game/id/13114
DTSTART:20201212T180000
DTEND:20201212T190000
LOCATION:Stadionhalle\, 71696 Möglingen
END:VEVENT
BEGIN:VEVENT
UID:97e83527a30c82d05ff22bfcfa513789
DTSTAMP:20260423T034632Z
SUMMARY:[Männer Landesliga] CVJM HB Dußlingen-Gomaringen  - CVJM  Walddor
 fhäslach 
URL:https://www.eichenkreuzliga.de/handball/game/id/13115
DTSTART:20201205T200000
DTEND:20201205T210000
LOCATION:Hönisch Sporthalle\, 72144 Dusslingen
END:VEVENT
BEGIN:VEVENT
UID:64b20bea1c8721f961ca0dd7cf374928
DTSTAMP:20260423T034632Z
SUMMARY:[Männer Landesliga] CVJM  Walddorfhäslach  - CVJM SG Mössingen/B
 elsen 
URL:https://www.eichenkreuzliga.de/handball/game/id/13116
DTSTART:20210320T190000
DTEND:20210320T200000
LOCATION:Ballspielhalle\, 72141 Walddorfhäslach
END:VEVENT
BEGIN:VEVENT
UID:7dca74fc1d43617014daaa1e18b9af3c
DTSTAMP:20260423T034632Z
SUMMARY:[Männer Landesliga] CVJM  Walddorfhäslach  - CVJM HB Dußlingen-G
 omaringen 
URL:https://www.eichenkreuzliga.de/handball/game/id/13183
DTSTART:20201120T203000
DTEND:20201120T213000
LOCATION:Ballspielhalle\, 72141 Walddorfhäslach
END:VEVENT
END:VCALENDAR
