BEGIN:VCALENDAR
PRODID:-//eluceo/ical//2.0/EN
VERSION:2.0
CALSCALE:GREGORIAN
BEGIN:VEVENT
UID:cd51c9f2aad190d93c7a0e90fd02698b
DTSTAMP:20260423T052431Z
SUMMARY:[Männer LK4] CVJM SG Mössingen/Belsen 1c - CVJM Enzweihingen 1b
URL:https://www.eichenkreuzliga.de/handball/game/id/13022
DTSTART:20201018T140000
DTEND:20201018T150000
LOCATION:Jahnhalle 2\, 72116 Mössingen
END:VEVENT
BEGIN:VEVENT
UID:d503cb25fcf9841c5b1804fb2a6e7014
DTSTAMP:20260423T052431Z
SUMMARY:[Männer LK4] CVJM SG Mössingen/Belsen 1c - CVJM Fellbach 
URL:https://www.eichenkreuzliga.de/handball/game/id/13023
DTSTART:20201121T170000
DTEND:20201121T180000
LOCATION:Jahnhalle 2\, 72116 Mössingen
END:VEVENT
BEGIN:VEVENT
UID:b44b44dce2c50ec1671dcb5fd89d14c2
DTSTAMP:20260423T052431Z
SUMMARY:[Männer LK4] CVJM SG Mössingen/Belsen 1c - CVJM Möglingen 1b
URL:https://www.eichenkreuzliga.de/handball/game/id/13024
DTSTART:20210314T190000
DTEND:20210314T200000
LOCATION:Jahnhalle 2\, 72116 Mössingen
END:VEVENT
BEGIN:VEVENT
UID:b52296d114af679070cf52d883e046d5
DTSTAMP:20260423T052431Z
SUMMARY:[Männer LK4] CVJM SG Mössingen/Belsen 1c - EK Wolfschlugen 
URL:https://www.eichenkreuzliga.de/handball/game/id/13025
DTSTART:20210227T150000
DTEND:20210227T160000
LOCATION:Jahnhalle 2\, 72116 Mössingen
END:VEVENT
BEGIN:VEVENT
UID:8bd26f06db96e2940d26d682fa9f4057
DTSTAMP:20260423T052431Z
SUMMARY:[Männer LK4] CVJM HB Dußlingen-Gomaringen 2 - CVJM SG Mössingen/
 Belsen 1c
URL:https://www.eichenkreuzliga.de/handball/game/id/13026
DTSTART:20201107T180000
DTEND:20201107T190000
LOCATION:Hönisch Sporthalle\, 72144 Dusslingen
END:VEVENT
BEGIN:VEVENT
UID:beb140fd93fc18e097406a7d137346dc
DTSTAMP:20260423T052431Z
SUMMARY:[Männer LK4] CVJM Kusterdingen e.V.  - CVJM SG Mössingen/Belsen 1
 c
URL:https://www.eichenkreuzliga.de/handball/game/id/13027
DTSTART:20201212T160000
DTEND:20201212T170000
LOCATION:Härtensporthalle\, 72127 Kusterdingen
END:VEVENT
BEGIN:VEVENT
UID:98045378afaf2c0d0b6c6718c5619e05
DTSTAMP:20260423T052431Z
SUMMARY:[Männer LK4] SG Grunbach Winterbach  - CVJM SG Mössingen/Belsen 1
 c
URL:https://www.eichenkreuzliga.de/handball/game/id/13028
DTSTART:20210124T160000
DTEND:20210124T170000
LOCATION:Jahnhalle\, 73630 Grunbach
END:VEVENT
BEGIN:VEVENT
UID:c1d0ee10296d2280485ae8ccb6ee6eea
DTSTAMP:20260423T052431Z
SUMMARY:[Männer LK4] CVJM Enzweihingen 1b - CVJM Fellbach 
URL:https://www.eichenkreuzliga.de/handball/game/id/13029
DTSTART:20210130T180000
DTEND:20210130T190000
LOCATION:Schulsporthalle\, 71665 Enzweihingen
END:VEVENT
BEGIN:VEVENT
UID:eed4997d92e43985e4a88e02be2ee173
DTSTAMP:20260423T052431Z
SUMMARY:[Männer LK4] CVJM Enzweihingen 1b - CVJM HB Dußlingen-Gomaringen 
 2
URL:https://www.eichenkreuzliga.de/handball/game/id/13030
DTSTART:20210227T180000
DTEND:20210227T190000
LOCATION:Schulsporthalle\, 71665 Enzweihingen
END:VEVENT
BEGIN:VEVENT
UID:1344a4651c7f5379ac4376d9ac6fac0b
DTSTAMP:20260423T052431Z
SUMMARY:[Männer LK4] CVJM Enzweihingen 1b - CVJM Möglingen 1b
URL:https://www.eichenkreuzliga.de/handball/game/id/13032
DTSTART:20201108T170000
DTEND:20201108T180000
LOCATION:Schulsporthalle\, 71665 Enzweihingen
END:VEVENT
BEGIN:VEVENT
UID:4ed26bfeacb65248b3808ec3809e4049
DTSTAMP:20260423T052431Z
SUMMARY:[Männer LK4] EK Wolfschlugen  - CVJM Enzweihingen 1b
URL:https://www.eichenkreuzliga.de/handball/game/id/13033
DTSTART:20201206T170000
DTEND:20201206T180000
LOCATION:Sporthalle Herdhau\, 72649 Wolfschlugen
END:VEVENT
BEGIN:VEVENT
UID:fde511b3f4a72147e5fdeca038e6c684
DTSTAMP:20260423T052431Z
SUMMARY:[Männer LK4] SG Grunbach Winterbach  - CVJM Enzweihingen 1b
URL:https://www.eichenkreuzliga.de/handball/game/id/13034
DTSTART:20210207T160000
DTEND:20210207T170000
LOCATION:Jahnhalle\, 73630 Grunbach
END:VEVENT
BEGIN:VEVENT
UID:c483ba37f5f5bad6b05dc48a89f4af47
DTSTAMP:20260423T052431Z
SUMMARY:[Männer LK4] CVJM Fellbach  - CVJM HB Dußlingen-Gomaringen 2
URL:https://www.eichenkreuzliga.de/handball/game/id/13035
DTSTART:20201219T160000
DTEND:20201219T170000
LOCATION:Zeppelinhalle\, 70734 Fellbach
END:VEVENT
BEGIN:VEVENT
UID:57df5b3d15896c95aec81fe79de6782c
DTSTAMP:20260423T052431Z
SUMMARY:[Männer LK4] CVJM Fellbach  - CVJM Möglingen 1b
URL:https://www.eichenkreuzliga.de/handball/game/id/13037
DTSTART:20210213T160000
DTEND:20210213T170000
LOCATION:Zeppelinhalle\, 70734 Fellbach
END:VEVENT
BEGIN:VEVENT
UID:cc6a25b4e06169593a388d540eaac965
DTSTAMP:20260423T052431Z
SUMMARY:[Männer LK4] CVJM Fellbach  - EK Wolfschlugen 
URL:https://www.eichenkreuzliga.de/handball/game/id/13038
DTSTART:20210313T170000
DTEND:20210313T180000
LOCATION:Zeppelinhalle\, 70734 Fellbach
END:VEVENT
BEGIN:VEVENT
UID:54dc03f24e6cfbed028f26c012cd3351
DTSTAMP:20260423T052431Z
SUMMARY:[Männer LK4] CVJM Möglingen 1b - EK Wolfschlugen 
URL:https://www.eichenkreuzliga.de/handball/game/id/13040
DTSTART:20201017T160000
DTEND:20201017T170000
LOCATION:Stadionhalle\, 71696 Möglingen
END:VEVENT
BEGIN:VEVENT
UID:ae8247f438082ee3130cb00028c31876
DTSTAMP:20260423T052431Z
SUMMARY:[Männer LK4] CVJM Möglingen 1b - SG Grunbach Winterbach 
URL:https://www.eichenkreuzliga.de/handball/game/id/13041
DTSTART:20201128T160000
DTEND:20201128T170000
LOCATION:Stadionhalle\, 71696 Möglingen
END:VEVENT
BEGIN:VEVENT
UID:b7cbda6ef12ecc500c262ca97175c053
DTSTAMP:20260423T052431Z
SUMMARY:[Männer LK4] CVJM HB Dußlingen-Gomaringen 2 - CVJM Möglingen 1b
URL:https://www.eichenkreuzliga.de/handball/game/id/13044
DTSTART:20210116T180000
DTEND:20210116T190000
LOCATION:Hönisch Sporthalle\, 72144 Dusslingen
END:VEVENT
BEGIN:VEVENT
UID:46a8cf361d0ed1c5f00c798305d2a849
DTSTAMP:20260423T052431Z
SUMMARY:[Männer LK4] EK Wolfschlugen  - CVJM HB Dußlingen-Gomaringen 2
URL:https://www.eichenkreuzliga.de/handball/game/id/13045
DTSTART:20210328T160000
DTEND:20210328T170000
LOCATION:Sporthalle Herdhau\, 72649 Wolfschlugen
END:VEVENT
BEGIN:VEVENT
UID:ff7f0c8b9d05b029d9675663a0f34b90
DTSTAMP:20260423T052431Z
SUMMARY:[Männer LK4] CVJM HB Dußlingen-Gomaringen 2 - SG Grunbach Winterb
 ach 
URL:https://www.eichenkreuzliga.de/handball/game/id/13046
DTSTART:20201017T000000
DTEND:20201017T010000
LOCATION:Hönisch Sporthalle\, 72144 Dusslingen
END:VEVENT
BEGIN:VEVENT
UID:75351e711b65c0f9d780f99bffd79f75
DTSTAMP:20260423T052431Z
SUMMARY:[Männer LK4] CVJM Möglingen 1b - CVJM Kusterdingen e.V. 
URL:https://www.eichenkreuzliga.de/handball/game/id/13047
DTSTART:20210320T160000
DTEND:20210320T170000
LOCATION:Stadionhalle\, 71696 Möglingen
END:VEVENT
BEGIN:VEVENT
UID:e3343c510dc6208f3d862d539cd61c89
DTSTAMP:20260423T052431Z
SUMMARY:[Männer LK4] CVJM Kusterdingen e.V.  - EK Wolfschlugen 
URL:https://www.eichenkreuzliga.de/handball/game/id/13048
DTSTART:20210130T160000
DTEND:20210130T170000
LOCATION:Härtensporthalle\, 72127 Kusterdingen
END:VEVENT
BEGIN:VEVENT
UID:2aca224497a573e88b7c144f81eef581
DTSTAMP:20260423T052431Z
SUMMARY:[Männer LK4] CVJM Kusterdingen e.V.  - SG Grunbach Winterbach 
URL:https://www.eichenkreuzliga.de/handball/game/id/13050
DTSTART:20210313T170000
DTEND:20210313T180000
LOCATION:Härtensporthalle\, 72127 Kusterdingen
END:VEVENT
BEGIN:VEVENT
UID:9714f094e8a4349aaf845c384d739634
DTSTAMP:20260423T052431Z
SUMMARY:[Männer LK4] EK Wolfschlugen  - SG Grunbach Winterbach 
URL:https://www.eichenkreuzliga.de/handball/game/id/13051
DTSTART:20201107T170000
DTEND:20201107T180000
LOCATION:Sporthalle Herdhau\, 72649 Wolfschlugen
END:VEVENT
BEGIN:VEVENT
UID:4a6d8f3720d0bcf16053e4ef3064fefd
DTSTAMP:20260423T052431Z
SUMMARY:[Männer LK4] SG Grunbach Winterbach  - CVJM Fellbach 
URL:https://www.eichenkreuzliga.de/handball/game/id/13052
DTSTART:20201212T180000
DTEND:20201212T190000
LOCATION:Jahnhalle\, 73630 Grunbach
END:VEVENT
BEGIN:VEVENT
UID:c981874e03d33bb1de60b221f6c82fef
DTSTAMP:20260423T052431Z
SUMMARY:[Männer LK4] CVJM Fellbach  - CVJM Kusterdingen e.V. 
URL:https://www.eichenkreuzliga.de/handball/game/id/13057
DTSTART:20201107T200000
DTEND:20201107T210000
LOCATION:Zeppelinhalle\, 70734 Fellbach
END:VEVENT
BEGIN:VEVENT
UID:7fd0c747eab0099fc9c5b28b67c26dd6
DTSTAMP:20260423T052431Z
SUMMARY:[Männer LK4] CVJM Kusterdingen e.V.  - CVJM HB Dußlingen-Gomaring
 en 2
URL:https://www.eichenkreuzliga.de/handball/game/id/13059
DTSTART:20201205T180000
DTEND:20201205T190000
LOCATION:Härtensporthalle\, 72127 Kusterdingen
END:VEVENT
BEGIN:VEVENT
UID:909c46d2bad372da8517af73d075a634
DTSTAMP:20260423T052431Z
SUMMARY:[Männer LK4] CVJM Kusterdingen e.V.  - CVJM Enzweihingen 1b
URL:https://www.eichenkreuzliga.de/handball/game/id/13060
DTSTART:20210327T180000
DTEND:20210327T190000
LOCATION:Härtensporthalle\, 72127 Kusterdingen
END:VEVENT
END:VCALENDAR
