BEGIN:VCALENDAR
PRODID:-//eluceo/ical//2.0/EN
VERSION:2.0
CALSCALE:GREGORIAN
BEGIN:VEVENT
UID:70edf2d2ac896092c1674cf0bc528ffa
DTSTAMP:20260423T014347Z
SUMMARY:[männliche B-Jugend Runde] CVJM Möglingen  - EK Bernhausen 
URL:https://www.eichenkreuzliga.de/handball/game/id/12874
DTSTART:20201017T103000
DTEND:20201017T113000
LOCATION:Stadionhalle\, 71696 Möglingen
END:VEVENT
BEGIN:VEVENT
UID:a4c1417f4ba5b0d5c34e1ed2a45c5636
DTSTAMP:20260423T014347Z
SUMMARY:[männliche B-Jugend Runde] CVJM HB Dußlingen-Gomaringen  - CVJM H
 agelloch SG Hagelloch/Kusterdingen
URL:https://www.eichenkreuzliga.de/handball/game/id/12875
DTSTART:20201017T000000
DTEND:20201017T010000
LOCATION:Hönisch Sporthalle\, 72144 Dusslingen
END:VEVENT
BEGIN:VEVENT
UID:276f1432035f4ef1656c6b3d6c7e6510
DTSTAMP:20260423T014347Z
SUMMARY:[männliche B-Jugend Runde] EK Köngen  - EJW Münchingen 
URL:https://www.eichenkreuzliga.de/handball/game/id/12877
DTSTART:20201017T150000
DTEND:20201017T160000
LOCATION:Burgschulhalle\, 73257 Köngen
END:VEVENT
BEGIN:VEVENT
UID:f732034ca65f11aecba06ae9530eba4b
DTSTAMP:20260423T014347Z
SUMMARY:[männliche B-Jugend Runde] CVJM Flacht  - CVJM Wildberg 
URL:https://www.eichenkreuzliga.de/handball/game/id/12878
DTSTART:20201017T160000
DTEND:20201017T170000
LOCATION:Sporthalle Flacht\, 71287 Weissach
END:VEVENT
BEGIN:VEVENT
UID:ecbb1393c31eb31cad9e77f20bca318f
DTSTAMP:20260423T014347Z
SUMMARY:[männliche B-Jugend Runde] CVJM Enzweihingen  - CVJM  Walddorfhäs
 lach 
URL:https://www.eichenkreuzliga.de/handball/game/id/12879
DTSTART:20201018T160000
DTEND:20201018T170000
LOCATION:Schulsporthalle\, 71665 Enzweihingen
END:VEVENT
BEGIN:VEVENT
UID:f50edb274beba4ec2a9f9f7e20e38bc5
DTSTAMP:20260423T014347Z
SUMMARY:[männliche B-Jugend Runde] CVJM Wildberg  - EK Bernhausen 
URL:https://www.eichenkreuzliga.de/handball/game/id/12880
DTSTART:20201108T154500
DTEND:20201108T164500
LOCATION:Sporthalle Wildberg\, 72218 Wildberg
END:VEVENT
BEGIN:VEVENT
UID:bd5ada3c13e1d060569723e4f782799a
DTSTAMP:20260423T014347Z
SUMMARY:[männliche B-Jugend Runde] CVJM Flacht  - EJW Münchingen 
URL:https://www.eichenkreuzliga.de/handball/game/id/12882
DTSTART:20201107T153000
DTEND:20201107T163000
LOCATION:Sporthalle Flacht\, 71287 Weissach
END:VEVENT
BEGIN:VEVENT
UID:aa0ce60d568d2c6e7832cf05f6f1e3c0
DTSTAMP:20260423T014347Z
SUMMARY:[männliche B-Jugend Runde] CVJM Möglingen  - CVJM  Walddorfhäsla
 ch 
URL:https://www.eichenkreuzliga.de/handball/game/id/12883
DTSTART:20201107T163000
DTEND:20201107T173000
LOCATION:Stadionhalle\, 71696 Möglingen
END:VEVENT
BEGIN:VEVENT
UID:a792b264df38503c104edf338db35d02
DTSTAMP:20260423T014347Z
SUMMARY:[männliche B-Jugend Runde] EK Köngen  - CVJM HB Dußlingen-Gomari
 ngen 
URL:https://www.eichenkreuzliga.de/handball/game/id/12884
DTSTART:20201107T140000
DTEND:20201107T150000
LOCATION:Burgschulhalle\, 73257 Köngen
END:VEVENT
BEGIN:VEVENT
UID:902169b703b8b4eb1dd8810c93bb5fc5
DTSTAMP:20260423T014347Z
SUMMARY:[männliche B-Jugend Runde] CVJM  Walddorfhäslach  - EJW Münching
 en 
URL:https://www.eichenkreuzliga.de/handball/game/id/12885
DTSTART:20201115T130000
DTEND:20201115T140000
LOCATION:Ballspielhalle\, 72141 Walddorfhäslach
END:VEVENT
BEGIN:VEVENT
UID:440722c064e470e290328825b1f2a8ec
DTSTAMP:20260423T014347Z
SUMMARY:[männliche B-Jugend Runde] CVJM Hagelloch SG Hagelloch/Kusterdinge
 n - EK Köngen 
URL:https://www.eichenkreuzliga.de/handball/game/id/12886
DTSTART:20201129T141500
DTEND:20201129T151500
LOCATION:Kreissporthalle Tübingen\, 72072 Tübingen
END:VEVENT
BEGIN:VEVENT
UID:6bb80bb9b0c6c4d4aadf64f72b4b1222
DTSTAMP:20260423T014347Z
SUMMARY:[männliche B-Jugend Runde] EK Bernhausen  - CVJM Flacht 
URL:https://www.eichenkreuzliga.de/handball/game/id/12887
DTSTART:20201114T154500
DTEND:20201114T164500
LOCATION:Elisabeth-Selbert-Gymnasium Halle\, 70794 Bernhausen
END:VEVENT
BEGIN:VEVENT
UID:254fc7c0b40d5b5912b6e83ea4992308
DTSTAMP:20260423T014347Z
SUMMARY:[männliche B-Jugend Runde] CVJM HB Dußlingen-Gomaringen  - CVJM E
 nzweihingen 
URL:https://www.eichenkreuzliga.de/handball/game/id/12888
DTSTART:20201121T160000
DTEND:20201121T170000
LOCATION:Hönisch Sporthalle\, 72144 Dusslingen
END:VEVENT
BEGIN:VEVENT
UID:889e3e51f6a38c16f6268147634d971b
DTSTAMP:20260423T014347Z
SUMMARY:[männliche B-Jugend Runde] CVJM Wildberg  - CVJM Möglingen 
URL:https://www.eichenkreuzliga.de/handball/game/id/12889
DTSTART:20201129T140000
DTEND:20201129T150000
LOCATION:Sporthalle Wildberg\, 72218 Wildberg
END:VEVENT
BEGIN:VEVENT
UID:c67eafb0baec0e087f6df9230085355b
DTSTAMP:20260423T014347Z
SUMMARY:[männliche B-Jugend Runde] CVJM  Walddorfhäslach  - CVJM Flacht 
URL:https://www.eichenkreuzliga.de/handball/game/id/12890
DTSTART:20201213T180000
DTEND:20201213T190000
LOCATION:Ballspielhalle\, 72141 Walddorfhäslach
END:VEVENT
BEGIN:VEVENT
UID:7f23c00d90ecbb848b33261f093f3340
DTSTAMP:20260423T014347Z
SUMMARY:[männliche B-Jugend Runde] CVJM Möglingen  - CVJM Hagelloch SG Ha
 gelloch/Kusterdingen
URL:https://www.eichenkreuzliga.de/handball/game/id/12891
DTSTART:20201212T140000
DTEND:20201212T150000
LOCATION:Stadionhalle\, 71696 Möglingen
END:VEVENT
BEGIN:VEVENT
UID:59a13f698bbe50d4b8ad673f8353c34b
DTSTAMP:20260423T014347Z
SUMMARY:[männliche B-Jugend Runde] CVJM Wildberg  - CVJM Enzweihingen 
URL:https://www.eichenkreuzliga.de/handball/game/id/12893
DTSTART:20201206T140000
DTEND:20201206T150000
LOCATION:Sporthalle Wildberg\, 72218 Wildberg
END:VEVENT
BEGIN:VEVENT
UID:64d32782a16e4afe5a9f329fce230a92
DTSTAMP:20260423T014347Z
SUMMARY:[männliche B-Jugend Runde] EK Bernhausen  - EK Köngen 
URL:https://www.eichenkreuzliga.de/handball/game/id/12894
DTSTART:20201212T143000
DTEND:20201212T153000
LOCATION:Elisabeth-Selbert-Gymnasium Halle\, 70794 Bernhausen
END:VEVENT
BEGIN:VEVENT
UID:8fa518823fe1b2f2ee21c3bcd46d2935
DTSTAMP:20260423T014347Z
SUMMARY:[männliche B-Jugend Runde] CVJM HB Dußlingen-Gomaringen  - CVJM  
 Walddorfhäslach 
URL:https://www.eichenkreuzliga.de/handball/game/id/12895
DTSTART:20210116T141500
DTEND:20210116T151500
LOCATION:Hönisch Sporthalle\, 72144 Dusslingen
END:VEVENT
BEGIN:VEVENT
UID:cc4328565aa3258c1389776e87c02988
DTSTAMP:20260423T014347Z
SUMMARY:[männliche B-Jugend Runde] CVJM Enzweihingen  - EK Köngen 
URL:https://www.eichenkreuzliga.de/handball/game/id/12897
DTSTART:20210130T160000
DTEND:20210130T170000
LOCATION:Schulsporthalle\, 71665 Enzweihingen
END:VEVENT
BEGIN:VEVENT
UID:1f598610e72d6a2a90e7469368e41ebc
DTSTAMP:20260423T014347Z
SUMMARY:[männliche B-Jugend Runde] CVJM Enzweihingen  - EK Bernhausen 
URL:https://www.eichenkreuzliga.de/handball/game/id/12899
DTSTART:20210227T160000
DTEND:20210227T170000
LOCATION:Schulsporthalle\, 71665 Enzweihingen
END:VEVENT
BEGIN:VEVENT
UID:3ef873c262fee8f96752ebe0f5e72839
DTSTAMP:20260423T014347Z
SUMMARY:[männliche B-Jugend Runde] CVJM Möglingen  - CVJM Enzweihingen 
URL:https://www.eichenkreuzliga.de/handball/game/id/12901
DTSTART:20210206T160000
DTEND:20210206T170000
LOCATION:Stadionhalle\, 71696 Möglingen
END:VEVENT
BEGIN:VEVENT
UID:e8efa5e7d312393da8ee912c91f8ec95
DTSTAMP:20260423T014347Z
SUMMARY:[männliche B-Jugend Runde] CVJM Flacht  - CVJM Enzweihingen 
URL:https://www.eichenkreuzliga.de/handball/game/id/12903
DTSTART:20210306T140000
DTEND:20210306T150000
LOCATION:Sporthalle Flacht\, 71287 Weissach
END:VEVENT
BEGIN:VEVENT
UID:3482855d5e4bc489dc6335fefe311bdc
DTSTAMP:20260423T014347Z
SUMMARY:[männliche B-Jugend Runde] CVJM Enzweihingen  - EJW Münchingen 
URL:https://www.eichenkreuzliga.de/handball/game/id/12904
DTSTART:20210327T183000
DTEND:20210327T193000
LOCATION:Schulsporthalle\, 71665 Enzweihingen
END:VEVENT
BEGIN:VEVENT
UID:ff96d6ea7b777332470fe292279c0751
DTSTAMP:20260423T014347Z
SUMMARY:[männliche B-Jugend Runde] CVJM Hagelloch SG Hagelloch/Kusterdinge
 n - EK Bernhausen 
URL:https://www.eichenkreuzliga.de/handball/game/id/12906
DTSTART:20210314T161500
DTEND:20210314T171500
LOCATION:Sporthalle Waldhäuser-Ost\, 72076 Tübingen
END:VEVENT
BEGIN:VEVENT
UID:8d75016a414beb1e0a13a90bd30309fc
DTSTAMP:20260423T014347Z
SUMMARY:[männliche B-Jugend Runde] EJW Münchingen  - EK Bernhausen 
URL:https://www.eichenkreuzliga.de/handball/game/id/12907
DTSTART:20201220T140000
DTEND:20201220T150000
LOCATION:Sporthalle Münchingen\, 70825 Korntal-Münchingen
END:VEVENT
BEGIN:VEVENT
UID:08e63986c2b1d36fbc99e75bf90fcc9d
DTSTAMP:20260423T014347Z
SUMMARY:[männliche B-Jugend Runde] EJW Münchingen  - CVJM Hagelloch SG Ha
 gelloch/Kusterdingen
URL:https://www.eichenkreuzliga.de/handball/game/id/12908
DTSTART:20210117T174500
DTEND:20210117T184500
LOCATION:Sporthalle Münchingen\, 70825 Korntal-Münchingen
END:VEVENT
BEGIN:VEVENT
UID:ef37809822c6c9796c992bac1616d308
DTSTAMP:20260423T014347Z
SUMMARY:[männliche B-Jugend Runde] EJW Münchingen  - CVJM Möglingen 
URL:https://www.eichenkreuzliga.de/handball/game/id/12909
DTSTART:20210131T140000
DTEND:20210131T150000
LOCATION:Sporthalle Münchingen\, 70825 Korntal-Münchingen
END:VEVENT
BEGIN:VEVENT
UID:3fecca277d78bbcf60b186f0c5962812
DTSTAMP:20260423T014347Z
SUMMARY:[männliche B-Jugend Runde] CVJM Wildberg  - EJW Münchingen 
URL:https://www.eichenkreuzliga.de/handball/game/id/12911
DTSTART:20210307T140000
DTEND:20210307T150000
LOCATION:Sporthalle Wildberg\, 72218 Wildberg
END:VEVENT
BEGIN:VEVENT
UID:f4789773f2192ddd073916309f604e38
DTSTAMP:20260423T014347Z
SUMMARY:[männliche B-Jugend Runde] EJW Münchingen  - CVJM HB Dußlingen-G
 omaringen 
URL:https://www.eichenkreuzliga.de/handball/game/id/12912
DTSTART:20210314T172000
DTEND:20210314T182000
LOCATION:Sporthalle Münchingen\, 70825 Korntal-Münchingen
END:VEVENT
BEGIN:VEVENT
UID:4d5fc811013def6cb09c33b97840852f
DTSTAMP:20260423T014347Z
SUMMARY:[männliche B-Jugend Runde] EK Bernhausen  - CVJM HB Dußlingen-Gom
 aringen 
URL:https://www.eichenkreuzliga.de/handball/game/id/12913
DTSTART:20210123T150000
DTEND:20210123T160000
LOCATION:Elisabeth-Selbert-Gymnasium Halle\, 70794 Bernhausen
END:VEVENT
BEGIN:VEVENT
UID:27bdad2a28205a6894374c2566fae71b
DTSTAMP:20260423T014347Z
SUMMARY:[männliche B-Jugend Runde] EK Bernhausen  - CVJM  Walddorfhäslach
  
URL:https://www.eichenkreuzliga.de/handball/game/id/12914
DTSTART:20210306T130000
DTEND:20210306T140000
LOCATION:Elisabeth-Selbert-Gymnasium Halle\, 70794 Bernhausen
END:VEVENT
BEGIN:VEVENT
UID:3a3c1db829ac6846ae779843f32e13f1
DTSTAMP:20260423T014347Z
SUMMARY:[männliche B-Jugend Runde] CVJM  Walddorfhäslach  - CVJM Wildberg
  
URL:https://www.eichenkreuzliga.de/handball/game/id/12915
DTSTART:20210123T151500
DTEND:20210123T161500
LOCATION:Ballspielhalle\, 72141 Walddorfhäslach
END:VEVENT
BEGIN:VEVENT
UID:8eafaf8a254fe71cd092ba7d6708a011
DTSTAMP:20260423T014347Z
SUMMARY:[männliche B-Jugend Runde] CVJM  Walddorfhäslach  - CVJM Hagelloc
 h SG Hagelloch/Kusterdingen
URL:https://www.eichenkreuzliga.de/handball/game/id/12916
DTSTART:20210321T180000
DTEND:20210321T190000
LOCATION:Ballspielhalle\, 72141 Walddorfhäslach
END:VEVENT
BEGIN:VEVENT
UID:830685c6d99a37d32d0c0094d3371558
DTSTAMP:20260423T014347Z
SUMMARY:[männliche B-Jugend Runde] EK Köngen  - CVJM  Walddorfhäslach 
URL:https://www.eichenkreuzliga.de/handball/game/id/12917
DTSTART:20210207T150000
DTEND:20210207T160000
LOCATION:Burgschulhalle\, 73257 Köngen
END:VEVENT
BEGIN:VEVENT
UID:71575aeb4350512107820db6ae5e8780
DTSTAMP:20260423T014347Z
SUMMARY:[männliche B-Jugend Runde] CVJM Flacht  - CVJM Hagelloch SG Hagell
 och/Kusterdingen
URL:https://www.eichenkreuzliga.de/handball/game/id/12918
DTSTART:20210130T140000
DTEND:20210130T150000
LOCATION:Sporthalle Flacht\, 71287 Weissach
END:VEVENT
BEGIN:VEVENT
UID:1a685925377d5c75dbb96103e3b02f8e
DTSTAMP:20260423T014347Z
SUMMARY:[männliche B-Jugend Runde] CVJM Wildberg  - CVJM Hagelloch SG Hage
 lloch/Kusterdingen
URL:https://www.eichenkreuzliga.de/handball/game/id/12919
DTSTART:20210328T150000
DTEND:20210328T160000
LOCATION:Sporthalle Wildberg\, 72218 Wildberg
END:VEVENT
BEGIN:VEVENT
UID:a36542a929aea702967de284fb608810
DTSTAMP:20260423T014347Z
SUMMARY:[männliche B-Jugend Runde] CVJM Flacht  - CVJM Möglingen 
URL:https://www.eichenkreuzliga.de/handball/game/id/12923
DTSTART:20210123T160000
DTEND:20210123T170000
LOCATION:Sporthalle Flacht\, 71287 Weissach
END:VEVENT
BEGIN:VEVENT
UID:7cc4500d738eedccf1063775297c4759
DTSTAMP:20260423T014347Z
SUMMARY:[männliche B-Jugend Runde] CVJM Möglingen  - CVJM HB Dußlingen-G
 omaringen 
URL:https://www.eichenkreuzliga.de/handball/game/id/12924
DTSTART:20210227T140000
DTEND:20210227T150000
LOCATION:Stadionhalle\, 71696 Möglingen
END:VEVENT
BEGIN:VEVENT
UID:824ecadd6d5e20b0172ec74f1b9c1676
DTSTAMP:20260423T014347Z
SUMMARY:[männliche B-Jugend Runde] EK Köngen  - CVJM Möglingen 
URL:https://www.eichenkreuzliga.de/handball/game/id/12925
DTSTART:20210327T150000
DTEND:20210327T160000
LOCATION:Burgschulhalle\, 73257 Köngen
END:VEVENT
BEGIN:VEVENT
UID:2eb53ce4eaf545879e18ae1dc404deec
DTSTAMP:20260423T014347Z
SUMMARY:[männliche B-Jugend Runde] CVJM HB Dußlingen-Gomaringen  - CVJM F
 lacht 
URL:https://www.eichenkreuzliga.de/handball/game/id/12926
DTSTART:20210328T151500
DTEND:20210328T161500
LOCATION:Hönisch Sporthalle\, 72144 Dusslingen
END:VEVENT
BEGIN:VEVENT
UID:dc75d6e7447db34b8e010f87fdc3a785
DTSTAMP:20260423T014347Z
SUMMARY:[männliche B-Jugend Runde] EK Köngen  - CVJM Wildberg 
URL:https://www.eichenkreuzliga.de/handball/game/id/12928
DTSTART:20210313T150000
DTEND:20210313T160000
LOCATION:Burgschulhalle\, 73257 Köngen
END:VEVENT
BEGIN:VEVENT
UID:67e2e077a18d6414d3167020c3c740f7
DTSTAMP:20260423T014347Z
SUMMARY:[männliche B-Jugend Runde] CVJM Flacht  - EK Köngen 
URL:https://www.eichenkreuzliga.de/handball/game/id/12929
DTSTART:20210227T140000
DTEND:20210227T150000
LOCATION:Sporthalle Flacht\, 71287 Weissach
END:VEVENT
BEGIN:VEVENT
UID:580dc1f0acfe24734a45e0f775283bbe
DTSTAMP:20260423T014347Z
SUMMARY:[männliche B-Jugend Runde] CVJM HB Dußlingen-Gomaringen  - CVJM W
 ildberg 
URL:https://www.eichenkreuzliga.de/handball/game/id/12930
DTSTART:20210131T164500
DTEND:20210131T174500
LOCATION:Hönisch Sporthalle\, 72144 Dusslingen
END:VEVENT
BEGIN:VEVENT
UID:f99d9ad69dc66782d35b29e97d22d73b
DTSTAMP:20260423T014347Z
SUMMARY:[männliche B-Jugend Runde] CVJM Hagelloch SG Hagelloch/Kusterdinge
 n - CVJM Enzweihingen 
URL:https://www.eichenkreuzliga.de/handball/game/id/13062
DTSTART:20201108T163000
DTEND:20201108T173000
LOCATION:Sporthalle Waldhäuser-Ost\, 72076 Tübingen
END:VEVENT
END:VCALENDAR
