BEGIN:VCALENDAR
PRODID:-//eluceo/ical//2.0/EN
VERSION:2.0
CALSCALE:GREGORIAN
BEGIN:VEVENT
UID:6c7802f1bd536c7537aaacfeda74264d
DTSTAMP:20260423T080820Z
SUMMARY:[weibliche B-Jugend Runde] CVJM Hülben  - CVJM Hagelloch 
URL:https://www.eichenkreuzliga.de/handball/game/id/12714
DTSTART:20201212T150000
DTEND:20201212T160000
LOCATION:Falkensteinhalle\, 72582 Grabenstetten
END:VEVENT
BEGIN:VEVENT
UID:b0fc53f4c11be23cf061bd87d1718bae
DTSTAMP:20260423T080820Z
SUMMARY:[weibliche B-Jugend Runde] CVJM Hülben  - CVJM SG Mössingen/Belse
 n 
URL:https://www.eichenkreuzliga.de/handball/game/id/12715
DTSTART:20210306T141500
DTEND:20210306T151500
LOCATION:Falkensteinhalle\, 72582 Grabenstetten
END:VEVENT
BEGIN:VEVENT
UID:6963237f5efe3485aa96f83d46e70e9f
DTSTAMP:20260423T080820Z
SUMMARY:[weibliche B-Jugend Runde] CVJM Hülben  - CVJM Wildberg a. K.
URL:https://www.eichenkreuzliga.de/handball/game/id/12719
DTSTART:20210131T144500
DTEND:20210131T154500
LOCATION:Falkensteinhalle\, 72582 Grabenstetten
END:VEVENT
BEGIN:VEVENT
UID:86150a051bdfcd25496198645d16eb46
DTSTAMP:20260423T080820Z
SUMMARY:[weibliche B-Jugend Runde] CVJM Hagelloch  - CVJM Hülben 
URL:https://www.eichenkreuzliga.de/handball/game/id/12746
DTSTART:20210314T124500
DTEND:20210314T134500
LOCATION:Sporthalle Waldhäuser-Ost\, 72076 Tübingen
END:VEVENT
BEGIN:VEVENT
UID:76d56a83ace3e91a6227c637c3d39555
DTSTAMP:20260423T080820Z
SUMMARY:[weibliche B-Jugend Runde] CVJM SG Mössingen/Belsen  - CVJM Hülbe
 n 
URL:https://www.eichenkreuzliga.de/handball/game/id/12748
DTSTART:20210123T150000
DTEND:20210123T160000
LOCATION:Jahnhalle 2\, 72116 Mössingen
END:VEVENT
BEGIN:VEVENT
UID:b16df8dc100233baddf6c9bf75fa4875
DTSTAMP:20260423T080820Z
SUMMARY:[weibliche B-Jugend Runde] CVJM Wildberg a. K. - CVJM Hülben 
URL:https://www.eichenkreuzliga.de/handball/game/id/12765
DTSTART:20201108T140000
DTEND:20201108T150000
LOCATION:Sporthalle Wildberg\, 72218 Wildberg
END:VEVENT
BEGIN:VEVENT
UID:806a9f0ff60641865a42df68a7017822
DTSTAMP:20260423T080820Z
SUMMARY:[weibliche B-Jugend Runde] CVJM HB Dußlingen-Gomaringen  - CVJM H
 ülben 
URL:https://www.eichenkreuzliga.de/handball/game/id/12766
DTSTART:20201017T000000
DTEND:20201017T010000
LOCATION:Hönisch Sporthalle\, 72144 Dusslingen
END:VEVENT
BEGIN:VEVENT
UID:ba0f8432d90038eb5aaded3aa0bddce8
DTSTAMP:20260423T080820Z
SUMMARY:[weibliche B-Jugend Runde] CVJM Hülben  - CVJM HB Dußlingen-Gomar
 ingen 
URL:https://www.eichenkreuzliga.de/handball/game/id/12767
DTSTART:20210320T160000
DTEND:20210320T170000
LOCATION:Falkensteinhalle\, 72582 Grabenstetten
END:VEVENT
BEGIN:VEVENT
UID:5f6002c29620984ccf95c734bd207c7d
DTSTAMP:20260423T080820Z
SUMMARY:[weibliche B-Jugend Runde] CVJM Hagelloch  - CVJM HB Dußlingen-Gom
 aringen 
URL:https://www.eichenkreuzliga.de/handball/game/id/12768
DTSTART:20201108T144500
DTEND:20201108T154500
LOCATION:Sporthalle Waldhäuser-Ost\, 72076 Tübingen
END:VEVENT
BEGIN:VEVENT
UID:b193874572c17b4c1c3353f0aba1221c
DTSTAMP:20260423T080820Z
SUMMARY:[weibliche B-Jugend Runde] CVJM Hagelloch  - CVJM Wildberg a. K.
URL:https://www.eichenkreuzliga.de/handball/game/id/12769
DTSTART:20201114T123000
DTEND:20201114T133000
LOCATION:Kreissporthalle Tübingen\, 72072 Tübingen
END:VEVENT
BEGIN:VEVENT
UID:446dd9310e457d16cb5539be68657d5a
DTSTAMP:20260423T080820Z
SUMMARY:[weibliche B-Jugend Runde] CVJM Hagelloch  - CVJM SG Mössingen/Bel
 sen 
URL:https://www.eichenkreuzliga.de/handball/game/id/12770
DTSTART:20210320T123000
DTEND:20210320T133000
LOCATION:Sporthalle Waldhäuser-Ost\, 72076 Tübingen
END:VEVENT
BEGIN:VEVENT
UID:5d1181a9e8c65e3435ffec3bc3154efe
DTSTAMP:20260423T080820Z
SUMMARY:[weibliche B-Jugend Runde] CVJM HB Dußlingen-Gomaringen  - CVJM Ha
 gelloch 
URL:https://www.eichenkreuzliga.de/handball/game/id/12771
DTSTART:20210131T150000
DTEND:20210131T160000
LOCATION:Hönisch Sporthalle\, 72144 Dusslingen
END:VEVENT
BEGIN:VEVENT
UID:ce51da3a1524053a6d5acd143dde66d2
DTSTAMP:20260423T080820Z
SUMMARY:[weibliche B-Jugend Runde] CVJM Wildberg a. K. - CVJM Hagelloch 
URL:https://www.eichenkreuzliga.de/handball/game/id/12772
DTSTART:20210117T140000
DTEND:20210117T150000
LOCATION:Sporthalle Wildberg\, 72218 Wildberg
END:VEVENT
BEGIN:VEVENT
UID:119477ac5f1e357ac334886c04e8f07b
DTSTAMP:20260423T080820Z
SUMMARY:[weibliche B-Jugend Runde] CVJM SG Mössingen/Belsen  - CVJM Hagell
 och 
URL:https://www.eichenkreuzliga.de/handball/game/id/12773
DTSTART:20201018T120000
DTEND:20201018T130000
LOCATION:Jahnhalle 2\, 72116 Mössingen
END:VEVENT
BEGIN:VEVENT
UID:9810ee59a38ea56671e8d289b6560688
DTSTAMP:20260423T080820Z
SUMMARY:[weibliche B-Jugend Runde] CVJM HB Dußlingen-Gomaringen  - CVJM SG
  Mössingen/Belsen 
URL:https://www.eichenkreuzliga.de/handball/game/id/12774
DTSTART:20201205T141500
DTEND:20201205T151500
LOCATION:Hönisch Sporthalle\, 72144 Dusslingen
END:VEVENT
BEGIN:VEVENT
UID:81fd61dda6a00b7997c8a7ff7e88ffcb
DTSTAMP:20260423T080820Z
SUMMARY:[weibliche B-Jugend Runde] CVJM SG Mössingen/Belsen  - CVJM HB Du
 ßlingen-Gomaringen 
URL:https://www.eichenkreuzliga.de/handball/game/id/12775
DTSTART:20210227T130000
DTEND:20210227T140000
LOCATION:Jahnhalle 2\, 72116 Mössingen
END:VEVENT
BEGIN:VEVENT
UID:34caaaf0b8db1c730ca5ae3382ffe93f
DTSTAMP:20260423T080820Z
SUMMARY:[weibliche B-Jugend Runde] CVJM Wildberg a. K. - CVJM HB Dußlingen
 -Gomaringen 
URL:https://www.eichenkreuzliga.de/handball/game/id/12776
DTSTART:20201213T150000
DTEND:20201213T160000
LOCATION:Sporthalle Wildberg\, 72218 Wildberg
END:VEVENT
BEGIN:VEVENT
UID:0df8f3c9a531288ef300d08ecbd58aee
DTSTAMP:20260423T080820Z
SUMMARY:[weibliche B-Jugend Runde] CVJM HB Dußlingen-Gomaringen  - CVJM Wi
 ldberg a. K.
URL:https://www.eichenkreuzliga.de/handball/game/id/12777
DTSTART:20210306T161500
DTEND:20210306T171500
LOCATION:Hönisch Sporthalle\, 72144 Dusslingen
END:VEVENT
BEGIN:VEVENT
UID:551154adc7eb5fb924f1c4214f060e3e
DTSTAMP:20260423T080820Z
SUMMARY:[weibliche B-Jugend Runde] CVJM Wildberg a. K. - CVJM SG Mössingen
 /Belsen 
URL:https://www.eichenkreuzliga.de/handball/game/id/12778
DTSTART:20201011T150000
DTEND:20201011T160000
LOCATION:Sporthalle Wildberg\, 72218 Wildberg
END:VEVENT
BEGIN:VEVENT
UID:e070e8fb4d0fb628c0d89865658eb16a
DTSTAMP:20260423T080820Z
SUMMARY:[weibliche B-Jugend Runde] CVJM SG Mössingen/Belsen  - CVJM Wildbe
 rg a. K.
URL:https://www.eichenkreuzliga.de/handball/game/id/12779
DTSTART:20210314T150000
DTEND:20210314T160000
LOCATION:Jahnhalle 2\, 72116 Mössingen
END:VEVENT
END:VCALENDAR
