BEGIN:VCALENDAR
PRODID:-//eluceo/ical//2.0/EN
VERSION:2.0
CALSCALE:GREGORIAN
BEGIN:VEVENT
UID:6bef496256bb165a4c13372ec1afca23
DTSTAMP:20260423T034914Z
SUMMARY:[weibliche C-Jugend Runde] EJW Münchingen  - CVJM Kirchentellinsfu
 rt 
URL:https://www.eichenkreuzliga.de/handball/game/id/11806
DTSTART:20210424T110000
DTEND:20210424T120000
LOCATION:Elisabeth-Selbert-Gymnasium Halle\, 70794 Bernhausen
END:VEVENT
BEGIN:VEVENT
UID:ddacf575f623768b7f1709e846011c75
DTSTAMP:20260423T034914Z
SUMMARY:[weibliche C-Jugend Runde] CVJM HB Dußlingen-Gomaringen 1 - CVJM H
 ülben 
URL:https://www.eichenkreuzliga.de/handball/game/id/11810
DTSTART:20210424T143000
DTEND:20210424T153000
LOCATION:Elisabeth-Selbert-Gymnasium Halle\, 70794 Bernhausen
END:VEVENT
BEGIN:VEVENT
UID:50429aa3797664c267694a0f6e8db7e6
DTSTAMP:20260423T034914Z
SUMMARY:[weibliche C-Jugend Runde] EK Bernhausen  - CVJM  Walddorfhäslach 
URL:https://www.eichenkreuzliga.de/handball/game/id/12043
DTSTART:20210424T124500
DTEND:20210424T134500
LOCATION:Elisabeth-Selbert-Gymnasium Halle\, 70794 Bernhausen
END:VEVENT
BEGIN:VEVENT
UID:4f684621f3dfb5f6e947ebabab31204a
DTSTAMP:20260423T034914Z
SUMMARY:[weibliche C-Jugend Runde] CVJM HB Dußlingen-Gomaringen 1 - CVJM H
 ülben 
URL:https://www.eichenkreuzliga.de/handball/game/id/12354
DTSTART:20210116T123000
DTEND:20210116T133000
LOCATION:Hönisch Sporthalle\, 72144 Dusslingen
END:VEVENT
BEGIN:VEVENT
UID:541c25a7dc087a0adf6778501042c8d9
DTSTAMP:20260423T034914Z
SUMMARY:[weibliche C-Jugend Runde] CVJM  Walddorfhäslach  - EK Bernhausen 
URL:https://www.eichenkreuzliga.de/handball/game/id/12355
DTSTART:20210123T114500
DTEND:20210123T124500
LOCATION:Ballspielhalle\, 72141 Walddorfhäslach
END:VEVENT
BEGIN:VEVENT
UID:b7e0d7528379d80c9b4e5bac65a27c15
DTSTAMP:20260423T034914Z
SUMMARY:[weibliche C-Jugend Runde] CVJM HB Dußlingen-Gomaringen 1 - EK Ber
 nhausen 
URL:https://www.eichenkreuzliga.de/handball/game/id/12357
DTSTART:20201017T000000
DTEND:20201017T010000
LOCATION:Hönisch Sporthalle\, 72144 Dusslingen
END:VEVENT
BEGIN:VEVENT
UID:270c47908b74013da7f248f6b58a4ede
DTSTAMP:20260423T034914Z
SUMMARY:[weibliche C-Jugend Runde] EK Bernhausen  - CVJM HB Dußlingen-Goma
 ringen 1
URL:https://www.eichenkreuzliga.de/handball/game/id/12358
DTSTART:20210130T141000
DTEND:20210130T151000
LOCATION:Elisabeth-Selbert-Gymnasium Halle\, 70794 Bernhausen
END:VEVENT
BEGIN:VEVENT
UID:02e3ed5b06832a1a1c16ac6c351744df
DTSTAMP:20260423T034914Z
SUMMARY:[weibliche C-Jugend Runde] CVJM Kirchentellinsfurt  - CVJM  Walddor
 fhäslach 
URL:https://www.eichenkreuzliga.de/handball/game/id/12364
DTSTART:20201017T000000
DTEND:20201017T010000
LOCATION:Sporthalle\, 72138 Kirchentellinsfurt
END:VEVENT
BEGIN:VEVENT
UID:87a7b9daaa3213cc35004138ef0c6489
DTSTAMP:20260423T034914Z
SUMMARY:[weibliche C-Jugend Runde] EJW Münchingen  - CVJM Hülben 
URL:https://www.eichenkreuzliga.de/handball/game/id/12365
DTSTART:20201220T160000
DTEND:20201220T170000
LOCATION:Sporthalle Münchingen\, 70825 Korntal-Münchingen
END:VEVENT
BEGIN:VEVENT
UID:25688a59e1110f8403522064decdff9c
DTSTAMP:20260423T034914Z
SUMMARY:[weibliche C-Jugend Runde] CVJM  Walddorfhäslach  - CVJM Kirchente
 llinsfurt 
URL:https://www.eichenkreuzliga.de/handball/game/id/12367
DTSTART:20210307T123000
DTEND:20210307T133000
LOCATION:Ballspielhalle\, 72141 Walddorfhäslach
END:VEVENT
BEGIN:VEVENT
UID:4c5415f0e9bcaf786b4dd49344888948
DTSTAMP:20260423T034914Z
SUMMARY:[weibliche C-Jugend Runde] CVJM Hülben  - CVJM Kirchentellinsfurt 
URL:https://www.eichenkreuzliga.de/handball/game/id/12368
DTSTART:20201107T153000
DTEND:20201107T163000
LOCATION:Gymnasiumsporthalle\, 73207 Plochingen
END:VEVENT
BEGIN:VEVENT
UID:999008988648d622a8756fca13938af0
DTSTAMP:20260423T034914Z
SUMMARY:[weibliche C-Jugend Runde] CVJM Kirchentellinsfurt  - CVJM Hülben 
URL:https://www.eichenkreuzliga.de/handball/game/id/12369
DTSTART:20210207T142000
DTEND:20210207T152000
LOCATION:Sporthalle\, 72138 Kirchentellinsfurt
END:VEVENT
BEGIN:VEVENT
UID:f0de49c0d53bc2ebdf4f8f5d6e3ec0c6
DTSTAMP:20260423T034914Z
SUMMARY:[weibliche C-Jugend Runde] EK Bernhausen  - EJW Münchingen 
URL:https://www.eichenkreuzliga.de/handball/game/id/12370
DTSTART:20201114T121000
DTEND:20201114T131000
LOCATION:Elisabeth-Selbert-Gymnasium Halle\, 70794 Bernhausen
END:VEVENT
BEGIN:VEVENT
UID:b2e989423ab877823bd59143156b0672
DTSTAMP:20260423T034914Z
SUMMARY:[weibliche C-Jugend Runde] EJW Münchingen  - EK Bernhausen 
URL:https://www.eichenkreuzliga.de/handball/game/id/12371
DTSTART:20210207T170000
DTEND:20210207T180000
LOCATION:Sporthalle Münchingen\, 70825 Korntal-Münchingen
END:VEVENT
BEGIN:VEVENT
UID:d58515540b5f8b7db20088fe7fedc1b2
DTSTAMP:20260423T034914Z
SUMMARY:[weibliche C-Jugend Runde] CVJM  Walddorfhäslach  - CVJM HB Dußli
 ngen-Gomaringen 1
URL:https://www.eichenkreuzliga.de/handball/game/id/12372
DTSTART:20201114T122000
DTEND:20201114T132000
LOCATION:Ballspielhalle\, 72141 Walddorfhäslach
END:VEVENT
BEGIN:VEVENT
UID:da0900ede53112fdb363bf3d2eff7065
DTSTAMP:20260423T034914Z
SUMMARY:[weibliche C-Jugend Runde] CVJM HB Dußlingen-Gomaringen 1 - CVJM  
 Walddorfhäslach 
URL:https://www.eichenkreuzliga.de/handball/game/id/12374
DTSTART:20210207T165000
DTEND:20210207T175000
LOCATION:Hönisch Sporthalle\, 72144 Dusslingen
END:VEVENT
BEGIN:VEVENT
UID:56746ead10ea448315de8508a48b5986
DTSTAMP:20260423T034914Z
SUMMARY:[weibliche C-Jugend Runde] CVJM Kirchentellinsfurt  - CVJM HB Dußl
 ingen-Gomaringen 1
URL:https://www.eichenkreuzliga.de/handball/game/id/12379
DTSTART:20201129T133000
DTEND:20201129T143000
LOCATION:Sporthalle\, 72138 Kirchentellinsfurt
END:VEVENT
BEGIN:VEVENT
UID:522121ab9fb758a0476c3f804705ed93
DTSTAMP:20260423T034914Z
SUMMARY:[weibliche C-Jugend Runde] CVJM HB Dußlingen-Gomaringen 1 - EJW M
 ünchingen 
URL:https://www.eichenkreuzliga.de/handball/game/id/12380
DTSTART:20201206T151500
DTEND:20201206T161500
LOCATION:Hönisch Sporthalle\, 72144 Dusslingen
END:VEVENT
BEGIN:VEVENT
UID:649f3334b9e2b0ba39ac4145a47eb96e
DTSTAMP:20260423T034914Z
SUMMARY:[weibliche C-Jugend Runde] CVJM Hülben  - CVJM  Walddorfhäslach 
URL:https://www.eichenkreuzliga.de/handball/game/id/12386
DTSTART:20201213T130000
DTEND:20201213T140000
LOCATION:Falkensteinhalle\, 72582 Grabenstetten
END:VEVENT
BEGIN:VEVENT
UID:d3757a269c7a2218f30a3c7e59c85504
DTSTAMP:20260423T034914Z
SUMMARY:[weibliche C-Jugend Runde] CVJM  Walddorfhäslach  - CVJM Hülben 
URL:https://www.eichenkreuzliga.de/handball/game/id/12387
DTSTART:20210321T123000
DTEND:20210321T133000
LOCATION:Ballspielhalle\, 72141 Walddorfhäslach
END:VEVENT
BEGIN:VEVENT
UID:4c1abf5f29f4dafe04de1a8c71862256
DTSTAMP:20260423T034914Z
SUMMARY:[weibliche C-Jugend Runde] EJW Münchingen  - CVJM Kirchentellinsfu
 rt 
URL:https://www.eichenkreuzliga.de/handball/game/id/12390
DTSTART:20210117T161000
DTEND:20210117T171000
LOCATION:Sporthalle Münchingen\, 70825 Korntal-Münchingen
END:VEVENT
BEGIN:VEVENT
UID:1640ed6e2a2acc5a5bd1b3a3ee202399
DTSTAMP:20260423T034914Z
SUMMARY:[weibliche C-Jugend Runde] EK Bernhausen  - CVJM Hülben 
URL:https://www.eichenkreuzliga.de/handball/game/id/12391
DTSTART:20201121T160500
DTEND:20201121T170500
LOCATION:Elisabeth-Selbert-Gymnasium Halle\, 70794 Bernhausen
END:VEVENT
BEGIN:VEVENT
UID:e4c1ee7f0e9b5c92f834057c17b08783
DTSTAMP:20260423T034914Z
SUMMARY:[weibliche C-Jugend Runde] CVJM Kirchentellinsfurt  - EK Bernhausen
  
URL:https://www.eichenkreuzliga.de/handball/game/id/12393
DTSTART:20201213T131500
DTEND:20201213T141500
LOCATION:Sporthalle\, 72138 Kirchentellinsfurt
END:VEVENT
BEGIN:VEVENT
UID:eadb641c9a8613a973d0474cbe27e3a5
DTSTAMP:20260423T034914Z
SUMMARY:[weibliche C-Jugend Runde] CVJM Hülben  - EK Bernhausen 
URL:https://www.eichenkreuzliga.de/handball/game/id/12395
DTSTART:20210306T123000
DTEND:20210306T133000
LOCATION:Falkensteinhalle\, 72582 Grabenstetten
END:VEVENT
BEGIN:VEVENT
UID:00d7565a6746ffa3f9b8e3b635f65553
DTSTAMP:20260423T034914Z
SUMMARY:[weibliche C-Jugend Runde] CVJM Hülben  - EJW Münchingen 
URL:https://www.eichenkreuzliga.de/handball/game/id/12396
DTSTART:20201010T143000
DTEND:20201010T153000
LOCATION:Falkensteinhalle\, 72582 Grabenstetten
END:VEVENT
BEGIN:VEVENT
UID:5883f4391814313b2cf5b39cd2d17dc6
DTSTAMP:20260423T034914Z
SUMMARY:[weibliche C-Jugend Runde] EK Bernhausen  - CVJM Kirchentellinsfurt
  
URL:https://www.eichenkreuzliga.de/handball/game/id/12397
DTSTART:20210320T124500
DTEND:20210320T134500
LOCATION:Elisabeth-Selbert-Gymnasium Halle\, 70794 Bernhausen
END:VEVENT
BEGIN:VEVENT
UID:ee3ba4c46ea3ec532029c3c486df8087
DTSTAMP:20260423T034914Z
SUMMARY:[weibliche C-Jugend Runde] EJW Münchingen  - CVJM  Walddorfhäslac
 h 
URL:https://www.eichenkreuzliga.de/handball/game/id/12398
DTSTART:20210228T172000
DTEND:20210228T182000
LOCATION:Sporthalle Münchingen\, 70825 Korntal-Münchingen
END:VEVENT
BEGIN:VEVENT
UID:a3ecbadd3eeec532d432a8f9dbc02e1f
DTSTAMP:20260423T034914Z
SUMMARY:[weibliche C-Jugend Runde] CVJM  Walddorfhäslach  - EJW Münchinge
 n 
URL:https://www.eichenkreuzliga.de/handball/game/id/12399
DTSTART:20210418T131500
DTEND:20210418T141500
LOCATION:Ballspielhalle\, 72141 Walddorfhäslach
END:VEVENT
BEGIN:VEVENT
UID:c0ac6dc4e24dc7184c0b8ca3f0495c59
DTSTAMP:20260423T034914Z
SUMMARY:[weibliche C-Jugend Runde] CVJM HB Dußlingen-Gomaringen 1 - CVJM K
 irchentellinsfurt 
URL:https://www.eichenkreuzliga.de/handball/game/id/13078
DTSTART:20210313T100000
DTEND:20210313T110000
LOCATION:Hönisch Sporthalle\, 72144 Dusslingen
END:VEVENT
BEGIN:VEVENT
UID:8a78ac5c1d939ab5fa7f7a969f816f8d
DTSTAMP:20260423T034914Z
SUMMARY:[weibliche C-Jugend Runde] EJW Münchingen  - CVJM HB Dußlingen-Go
 maringen 1
URL:https://www.eichenkreuzliga.de/handball/game/id/13079
DTSTART:20210328T133000
DTEND:20210328T143000
LOCATION:Sporthalle Münchingen\, 70825 Korntal-Münchingen
END:VEVENT
END:VCALENDAR
