BEGIN:VCALENDAR
PRODID:-//eluceo/ical//2.0/EN
VERSION:2.0
CALSCALE:GREGORIAN
BEGIN:VEVENT
UID:527cb2360d1a5812cc5cff2468dd8ac4
DTSTAMP:20260423T080738Z
SUMMARY:[weibliche A-Jugend Finalspiele] EK Testverein  - EK Testverein 
URL:https://www.eichenkreuzliga.de/handball/game/id/11998
DTSTART:20210417T140000
DTEND:20210417T150000
LOCATION:Hönisch Sporthalle\, 72144 Dusslingen
END:VEVENT
BEGIN:VEVENT
UID:3004da4b76b94e28f063daa590dcae5e
DTSTAMP:20260423T080738Z
SUMMARY:[weibliche A-Jugend Finalspiele] EK Testverein  - EK Testverein 
URL:https://www.eichenkreuzliga.de/handball/game/id/11999
DTSTART:20210417T160000
DTEND:20210417T170000
LOCATION:Hönisch Sporthalle\, 72144 Dusslingen
END:VEVENT
BEGIN:VEVENT
UID:636684e88f91f636650ad5a972ac037e
DTSTAMP:20260423T080738Z
SUMMARY:[weibliche A-Jugend Finalspiele] EK Testverein  - EK Testverein 
URL:https://www.eichenkreuzliga.de/handball/game/id/13136
DTSTART:20210424T123000
DTEND:20210424T133000
LOCATION:Falkensteinhalle\, 72582 Grabenstetten
END:VEVENT
BEGIN:VEVENT
UID:3132379dd8968cb9dd7bc7eb95d28bd8
DTSTAMP:20260423T080738Z
SUMMARY:[weibliche A-Jugend Finalspiele] EK Testverein  - EK Testverein 
URL:https://www.eichenkreuzliga.de/handball/game/id/13137
DTSTART:20210424T143000
DTEND:20210424T153000
LOCATION:Falkensteinhalle\, 72582 Grabenstetten
END:VEVENT
END:VCALENDAR
