BEGIN:VCALENDAR
PRODID:-//eluceo/ical//2.0/EN
VERSION:2.0
CALSCALE:GREGORIAN
BEGIN:VEVENT
UID:c44964bee3cda6e93405ab1774dc2c89
DTSTAMP:20260419T120858Z
SUMMARY:[Männer LK4] CVJM Fellbach 1b - CVJM Wildberg 
URL:https://www.eichenkreuzliga.de/handball/game/id/16917
DTSTART:20240204T180000
DTEND:20240204T190000
LOCATION:Zeppelinhalle\, 70734 Fellbach
END:VEVENT
BEGIN:VEVENT
UID:128582ad117107acd500d69efb61e990
DTSTAMP:20260419T120858Z
SUMMARY:[Männer LK4] CVJM Kusterdingen e.V.  - CVJM SG Mössingen/Belsen 1
 c
URL:https://www.eichenkreuzliga.de/handball/game/id/16918
DTSTART:20231014T180000
DTEND:20231014T190000
LOCATION:Härtensporthalle\, 72127 Kusterdingen
END:VEVENT
BEGIN:VEVENT
UID:1dd088a1eb9b36492d64b5d0bac47fbd
DTSTAMP:20260419T120858Z
SUMMARY:[Männer LK4] CVJM SG Mössingen/Belsen 1c - CVJM Kusterdingen e.V.
  
URL:https://www.eichenkreuzliga.de/handball/game/id/16919
DTSTART:20240309T153000
DTEND:20240309T163000
LOCATION:Jahnhalle 2\, 72116 Mössingen
END:VEVENT
BEGIN:VEVENT
UID:fc8dcbfb1a25f4f05c45da151ec75a5f
DTSTAMP:20260419T120858Z
SUMMARY:[Männer LK4] CVJM Fellbach 1b - CVJM Möglingen 
URL:https://www.eichenkreuzliga.de/handball/game/id/16920
DTSTART:20231015T164500
DTEND:20231015T174500
LOCATION:Zeppelinhalle\, 70734 Fellbach
END:VEVENT
BEGIN:VEVENT
UID:80232d72160f69bfbf78dfd4686dfa2f
DTSTAMP:20260419T120858Z
SUMMARY:[Männer LK4] CVJM Möglingen  - CVJM Fellbach 1b
URL:https://www.eichenkreuzliga.de/handball/game/id/16921
DTSTART:20240218T180000
DTEND:20240218T190000
LOCATION:Stadionhalle\, 71696 Möglingen
END:VEVENT
BEGIN:VEVENT
UID:9dd28bb5f8061a2c23786707545d2fbe
DTSTAMP:20260419T120858Z
SUMMARY:[Männer LK4] CVJM SG Mössingen/Belsen 1c - CVJM Fellbach 1b
URL:https://www.eichenkreuzliga.de/handball/game/id/16922
DTSTART:20231022T143000
DTEND:20231022T153000
LOCATION:Jahnhalle 2\, 72116 Mössingen
END:VEVENT
BEGIN:VEVENT
UID:656b0f225fb5a71d86affa0060b29530
DTSTAMP:20260419T120858Z
SUMMARY:[Männer LK4] CVJM Fellbach 1b - CVJM SG Mössingen/Belsen 1c
URL:https://www.eichenkreuzliga.de/handball/game/id/16923
DTSTART:20240316T000000
DTEND:20240316T010000
LOCATION:Zeppelinhalle\, 70734 Fellbach
END:VEVENT
BEGIN:VEVENT
UID:61ae9384cc187fe6fddcfb9faeb69ece
DTSTAMP:20260419T120858Z
SUMMARY:[Männer LK4] CVJM Kusterdingen e.V.  - CVJM Wildberg 
URL:https://www.eichenkreuzliga.de/handball/game/id/16924
DTSTART:20231111T170000
DTEND:20231111T180000
LOCATION:Härtensporthalle\, 72127 Kusterdingen
END:VEVENT
BEGIN:VEVENT
UID:6afdb5f438a05a9adb8f06d80856deec
DTSTAMP:20260419T120858Z
SUMMARY:[Männer LK4] CVJM Wildberg  - CVJM Kusterdingen e.V. 
URL:https://www.eichenkreuzliga.de/handball/game/id/16925
DTSTART:20240128T170000
DTEND:20240128T180000
LOCATION:Sporthalle Wildberg\, 72218 Wildberg
END:VEVENT
BEGIN:VEVENT
UID:eb6383845c48e5274a61a36e0e8d35a0
DTSTAMP:20260419T120858Z
SUMMARY:[Männer LK4] CVJM Kusterdingen e.V.  - CVJM Fellbach 1b
URL:https://www.eichenkreuzliga.de/handball/game/id/16927
DTSTART:20240224T170000
DTEND:20240224T180000
LOCATION:Härtensporthalle\, 72127 Kusterdingen
END:VEVENT
BEGIN:VEVENT
UID:e9b18283cfd13bec7182b3cc134a57ec
DTSTAMP:20260419T120858Z
SUMMARY:[Männer LK4] CVJM Kusterdingen e.V.  - CVJM Möglingen 
URL:https://www.eichenkreuzliga.de/handball/game/id/16928
DTSTART:20231216T171500
DTEND:20231216T181500
LOCATION:Härtensporthalle\, 72127 Kusterdingen
END:VEVENT
BEGIN:VEVENT
UID:f341be48255bb7f1f729bec9ff41e6dd
DTSTAMP:20260419T120858Z
SUMMARY:[Männer LK4] CVJM Möglingen  - CVJM Kusterdingen e.V. 
URL:https://www.eichenkreuzliga.de/handball/game/id/16929
DTSTART:20240323T161500
DTEND:20240323T171500
LOCATION:Stadionhalle\, 71696 Möglingen
END:VEVENT
BEGIN:VEVENT
UID:072dacd2650c92f6a83fa567978dd976
DTSTAMP:20260419T120858Z
SUMMARY:[Männer LK4] CVJM SG Mössingen/Belsen 1c - CVJM Möglingen 
URL:https://www.eichenkreuzliga.de/handball/game/id/16930
DTSTART:20231125T163000
DTEND:20231125T173000
LOCATION:Jahnhalle 2\, 72116 Mössingen
END:VEVENT
BEGIN:VEVENT
UID:bfb7c1e4b639b981f66506a20f444410
DTSTAMP:20260419T120858Z
SUMMARY:[Männer LK4] CVJM Möglingen  - CVJM SG Mössingen/Belsen 1c
URL:https://www.eichenkreuzliga.de/handball/game/id/16931
DTSTART:20240413T000000
DTEND:20240413T010000
LOCATION:Stadionhalle\, 71696 Möglingen
END:VEVENT
BEGIN:VEVENT
UID:603779757bb5910021c4be11f5c5bdba
DTSTAMP:20260419T120858Z
SUMMARY:[Männer LK4] CVJM Wildberg  - CVJM Möglingen 
URL:https://www.eichenkreuzliga.de/handball/game/id/16932
DTSTART:20240114T170000
DTEND:20240114T180000
LOCATION:Sporthalle Wildberg\, 72218 Wildberg
END:VEVENT
BEGIN:VEVENT
UID:90a75ac786f46c7c61cb819c86505812
DTSTAMP:20260419T120858Z
SUMMARY:[Männer LK4] CVJM Möglingen  - CVJM Wildberg 
URL:https://www.eichenkreuzliga.de/handball/game/id/16933
DTSTART:20240309T000000
DTEND:20240309T010000
LOCATION:Stadionhalle\, 71696 Möglingen
END:VEVENT
BEGIN:VEVENT
UID:657c2e6c4fddbda7d37b2e59b84d34c1
DTSTAMP:20260419T120858Z
SUMMARY:[Männer LK4] CVJM SG Mössingen/Belsen 1c - CVJM Wildberg 
URL:https://www.eichenkreuzliga.de/handball/game/id/16934
DTSTART:20240120T160000
DTEND:20240120T170000
LOCATION:Jahnhalle 2\, 72116 Mössingen
END:VEVENT
BEGIN:VEVENT
UID:c598c52af0e1564921555921fa67c4d2
DTSTAMP:20260419T120858Z
SUMMARY:[Männer LK4] CVJM Wildberg  - CVJM SG Mössingen/Belsen 1c
URL:https://www.eichenkreuzliga.de/handball/game/id/16935
DTSTART:20240407T160000
DTEND:20240407T170000
LOCATION:Sporthalle Wildberg\, 72218 Wildberg
END:VEVENT
BEGIN:VEVENT
UID:f7c5683e95d20a5673458d378ddcda6e
DTSTAMP:20260419T120858Z
SUMMARY:[Männer LK4] CVJM Wildberg  - CVJM Fellbach 1b
URL:https://www.eichenkreuzliga.de/handball/game/id/17248
DTSTART:20240303T000000
DTEND:20240303T010000
LOCATION:Sporthalle Wildberg\, 72218 Wildberg
END:VEVENT
BEGIN:VEVENT
UID:ac4f7d13f00c8c6b9e17eedd451d126e
DTSTAMP:20260419T120858Z
SUMMARY:[Männer LK4] CVJM Fellbach 1b - CVJM Kusterdingen e.V. 
URL:https://www.eichenkreuzliga.de/handball/game/id/17345
DTSTART:20240428T000000
DTEND:20240428T010000
LOCATION:Zeppelinhalle\, 70734 Fellbach
END:VEVENT
END:VCALENDAR
