BEGIN:VCALENDAR
PRODID:-//eluceo/ical//2.0/EN
VERSION:2.0
CALSCALE:GREGORIAN
BEGIN:VEVENT
UID:801e1130bc939a939b2b11ec2b4cbf55
DTSTAMP:20260421T112043Z
SUMMARY:[männliche B-Jugend Runde] CVJM  Walddorfhäslach  - CVJM Wildberg
  a.K.
URL:https://www.eichenkreuzliga.de/handball/game/id/17023
DTSTART:20231015T161500
DTEND:20231015T171500
LOCATION:Ballspielhalle\, 72141 Walddorfhäslach
END:VEVENT
BEGIN:VEVENT
UID:54659630e1fb8968a556375565915449
DTSTAMP:20260421T112043Z
SUMMARY:[männliche B-Jugend Runde] CVJM Flacht  - CVJM Fellbach 
URL:https://www.eichenkreuzliga.de/handball/game/id/17028
DTSTART:20231111T154500
DTEND:20231111T164500
LOCATION:Sporthalle Flacht\, 71287 Weissach
END:VEVENT
BEGIN:VEVENT
UID:a8452ab63a4af0c0d5587eba7e624cd5
DTSTAMP:20260421T112043Z
SUMMARY:[männliche B-Jugend Runde] CVJM Wildberg a.K. - EK Köngen 
URL:https://www.eichenkreuzliga.de/handball/game/id/17029
DTSTART:20231112T150000
DTEND:20231112T160000
LOCATION:Sporthalle Wildberg\, 72218 Wildberg
END:VEVENT
BEGIN:VEVENT
UID:b30dd111bff6622b43c9e9cddcd77397
DTSTAMP:20260421T112043Z
SUMMARY:[männliche B-Jugend Runde] CVJM HB Dußlingen-Gomaringen  - EK Kö
 ngen 
URL:https://www.eichenkreuzliga.de/handball/game/id/17030
DTSTART:20231021T171500
DTEND:20231021T181500
LOCATION:Hönisch Sporthalle\, 72144 Dusslingen
END:VEVENT
BEGIN:VEVENT
UID:2e4de7d87a37a677c6d87d1c0441f21a
DTSTAMP:20260421T112043Z
SUMMARY:[männliche B-Jugend Runde] CVJM  Walddorfhäslach  - CVJM Fellbach
  
URL:https://www.eichenkreuzliga.de/handball/game/id/17031
DTSTART:20231118T154500
DTEND:20231118T164500
LOCATION:Ballspielhalle\, 72141 Walddorfhäslach
END:VEVENT
BEGIN:VEVENT
UID:42e8fbb3b45c9008bc1049eac1e5d1bd
DTSTAMP:20260421T112043Z
SUMMARY:[männliche B-Jugend Runde] CVJM HB Dußlingen-Gomaringen  - EJW M
 ünchingen 
URL:https://www.eichenkreuzliga.de/handball/game/id/17032
DTSTART:20231118T114000
DTEND:20231118T124000
LOCATION:Hönisch Sporthalle\, 72144 Dusslingen
END:VEVENT
BEGIN:VEVENT
UID:97b073a5f9724a162f9bff85c09d8465
DTSTAMP:20260421T112043Z
SUMMARY:[männliche B-Jugend Runde] CVJM Möglingen  - EK Bernhausen 
URL:https://www.eichenkreuzliga.de/handball/game/id/17034
DTSTART:20231118T163000
DTEND:20231118T173000
LOCATION:Stadionhalle\, 71696 Möglingen
END:VEVENT
BEGIN:VEVENT
UID:a572fcf1c4959e2060dd20a0e539419f
DTSTAMP:20260421T112043Z
SUMMARY:[männliche B-Jugend Runde] CVJM Fellbach  - CVJM Möglingen 
URL:https://www.eichenkreuzliga.de/handball/game/id/17035
DTSTART:20231203T163000
DTEND:20231203T173000
LOCATION:Zeppelinhalle\, 70734 Fellbach
END:VEVENT
BEGIN:VEVENT
UID:b9b1f05a2b95f0c52df90378c1c00d14
DTSTAMP:20260421T112043Z
SUMMARY:[männliche B-Jugend Runde] CVJM  Walddorfhäslach  - CVJM Flacht 
URL:https://www.eichenkreuzliga.de/handball/game/id/17036
DTSTART:20231203T150000
DTEND:20231203T160000
LOCATION:Ballspielhalle\, 72141 Walddorfhäslach
END:VEVENT
BEGIN:VEVENT
UID:45e48db1f3e440d1c6324332ada89cbe
DTSTAMP:20260421T112043Z
SUMMARY:[männliche B-Jugend Runde] EJW Münchingen  - CVJM Wildberg a.K.
URL:https://www.eichenkreuzliga.de/handball/game/id/17038
DTSTART:20231203T160000
DTEND:20231203T170000
LOCATION:Sporthalle Münchingen\, 70825 Korntal-Münchingen
END:VEVENT
BEGIN:VEVENT
UID:ba07c62854b7943dacbf678923e08c57
DTSTAMP:20260421T112043Z
SUMMARY:[männliche B-Jugend Runde] CVJM HB Dußlingen-Gomaringen  - CVJM  
 Walddorfhäslach 
URL:https://www.eichenkreuzliga.de/handball/game/id/17039
DTSTART:20231217T180000
DTEND:20231217T190000
LOCATION:Hönisch Sporthalle\, 72144 Dusslingen
END:VEVENT
BEGIN:VEVENT
UID:4ac3113ea49628ab8a3f26a22ebcc681
DTSTAMP:20260421T112043Z
SUMMARY:[männliche B-Jugend Runde] CVJM Fellbach  - CVJM Wildberg a.K.
URL:https://www.eichenkreuzliga.de/handball/game/id/17040
DTSTART:20231216T163000
DTEND:20231216T173000
LOCATION:Zeppelinhalle\, 70734 Fellbach
END:VEVENT
BEGIN:VEVENT
UID:0a22297f334a6819840050d4d15da842
DTSTAMP:20260421T112043Z
SUMMARY:[männliche B-Jugend Runde] CVJM Möglingen  - EJW Münchingen 
URL:https://www.eichenkreuzliga.de/handball/game/id/17041
DTSTART:20231216T000000
DTEND:20231216T010000
LOCATION:Stadionhalle\, 71696 Möglingen
END:VEVENT
BEGIN:VEVENT
UID:9a6dca1a856f15b0605b2d5847ee2a1d
DTSTAMP:20260421T112043Z
SUMMARY:[männliche B-Jugend Runde] CVJM Fellbach  - EJW Münchingen 
URL:https://www.eichenkreuzliga.de/handball/game/id/17044
DTSTART:20240204T163000
DTEND:20240204T173000
LOCATION:Zeppelinhalle\, 70734 Fellbach
END:VEVENT
BEGIN:VEVENT
UID:a0306dd00ed71ca21e55078845d7fb9e
DTSTAMP:20260421T112043Z
SUMMARY:[männliche B-Jugend Runde] EK Bernhausen  - CVJM Fellbach 
URL:https://www.eichenkreuzliga.de/handball/game/id/17046
DTSTART:20240224T000000
DTEND:20240224T010000
LOCATION:Elisabeth-Selbert-Gymnasium Halle\, 70794 Bernhausen
END:VEVENT
BEGIN:VEVENT
UID:a6b381a9003e93e8bbe7879c0663e286
DTSTAMP:20260421T112043Z
SUMMARY:[männliche B-Jugend Runde] CVJM Fellbach  - CVJM HB Dußlingen-Gom
 aringen 
URL:https://www.eichenkreuzliga.de/handball/game/id/17047
DTSTART:20240316T160000
DTEND:20240316T170000
LOCATION:Zeppelinhalle\, 70734 Fellbach
END:VEVENT
BEGIN:VEVENT
UID:9cd39201d3c7f6edf8472d6a8b90b24d
DTSTAMP:20260421T112043Z
SUMMARY:[männliche B-Jugend Runde] EK Köngen  - CVJM Fellbach 
URL:https://www.eichenkreuzliga.de/handball/game/id/17048
DTSTART:20240302T133000
DTEND:20240302T143000
LOCATION:Burgschulhalle\, 73257 Köngen
END:VEVENT
BEGIN:VEVENT
UID:ef3d69508f4f8bdb3f6b833e5fff02fa
DTSTAMP:20260421T112043Z
SUMMARY:[männliche B-Jugend Runde] EJW Münchingen  - CVJM  Walddorfhäsla
 ch 
URL:https://www.eichenkreuzliga.de/handball/game/id/17049
DTSTART:20240128T150000
DTEND:20240128T160000
LOCATION:Sporthalle Münchingen\, 70825 Korntal-Münchingen
END:VEVENT
BEGIN:VEVENT
UID:b707d32c50f4e242a06e960004e66177
DTSTAMP:20260421T112043Z
SUMMARY:[männliche B-Jugend Runde] EJW Münchingen  - CVJM Flacht 
URL:https://www.eichenkreuzliga.de/handball/game/id/17050
DTSTART:20240225T150000
DTEND:20240225T160000
LOCATION:Sporthalle Münchingen\, 70825 Korntal-Münchingen
END:VEVENT
BEGIN:VEVENT
UID:4716c301a4417969c9924fd98e46e6b8
DTSTAMP:20260421T112043Z
SUMMARY:[männliche B-Jugend Runde] CVJM Flacht  - CVJM HB Dußlingen-Gomar
 ingen 
URL:https://www.eichenkreuzliga.de/handball/game/id/17052
DTSTART:20240113T163000
DTEND:20240113T173000
LOCATION:Sporthalle Flacht\, 71287 Weissach
END:VEVENT
BEGIN:VEVENT
UID:5259cedda2476bd88b7c718427d2f2bb
DTSTAMP:20260421T112043Z
SUMMARY:[männliche B-Jugend Runde] CVJM Flacht  - EK Bernhausen 
URL:https://www.eichenkreuzliga.de/handball/game/id/17053
DTSTART:20240316T163000
DTEND:20240316T173000
LOCATION:Sporthalle Flacht\, 71287 Weissach
END:VEVENT
BEGIN:VEVENT
UID:205186a307c1a29a55d2f8541d91c957
DTSTAMP:20260421T112043Z
SUMMARY:[männliche B-Jugend Runde] CVJM Wildberg a.K. - CVJM Flacht 
URL:https://www.eichenkreuzliga.de/handball/game/id/17054
DTSTART:20240310T150000
DTEND:20240310T160000
LOCATION:Sporthalle Wildberg\, 72218 Wildberg
END:VEVENT
BEGIN:VEVENT
UID:d281b99f8bc5142bec64461e3898c20b
DTSTAMP:20260421T112043Z
SUMMARY:[männliche B-Jugend Runde] CVJM  Walddorfhäslach  - CVJM Mögling
 en 
URL:https://www.eichenkreuzliga.de/handball/game/id/17055
DTSTART:20240224T104500
DTEND:20240224T114500
LOCATION:Ballspielhalle\, 72141 Walddorfhäslach
END:VEVENT
BEGIN:VEVENT
UID:febf70a0cdded54876b736fc13e5b553
DTSTAMP:20260421T112043Z
SUMMARY:[männliche B-Jugend Runde] EK Köngen  - CVJM  Walddorfhäslach 
URL:https://www.eichenkreuzliga.de/handball/game/id/17056
DTSTART:20240203T173000
DTEND:20240203T183000
LOCATION:Burgschulhalle\, 73257 Köngen
END:VEVENT
BEGIN:VEVENT
UID:40446513ea7d9774e7e6051681ac435c
DTSTAMP:20260421T112043Z
SUMMARY:[männliche B-Jugend Runde] EK Bernhausen  - CVJM  Walddorfhäslach
  
URL:https://www.eichenkreuzliga.de/handball/game/id/17057
DTSTART:20240310T160000
DTEND:20240310T170000
LOCATION:Elisabeth-Selbert-Gymnasium Halle\, 70794 Bernhausen
END:VEVENT
BEGIN:VEVENT
UID:e752f3ebc517ec18c996e20f2264bba5
DTSTAMP:20260421T112043Z
SUMMARY:[männliche B-Jugend Runde] CVJM Möglingen  - EK Köngen 
URL:https://www.eichenkreuzliga.de/handball/game/id/17059
DTSTART:20240309T150000
DTEND:20240309T160000
LOCATION:Stadionhalle\, 71696 Möglingen
END:VEVENT
BEGIN:VEVENT
UID:69aac892cdfb44925f403d6b1ecc283b
DTSTAMP:20260421T112043Z
SUMMARY:[männliche B-Jugend Runde] CVJM Wildberg a.K. - EK Bernhausen 
URL:https://www.eichenkreuzliga.de/handball/game/id/17060
DTSTART:20240114T153000
DTEND:20240114T163000
LOCATION:Sporthalle Wildberg\, 72218 Wildberg
END:VEVENT
BEGIN:VEVENT
UID:d34104f1734a01947a5c9e7865a18b76
DTSTAMP:20260421T112043Z
SUMMARY:[männliche B-Jugend Runde] EK Bernhausen  - CVJM HB Dußlingen-Gom
 aringen 
URL:https://www.eichenkreuzliga.de/handball/game/id/17061
DTSTART:20240128T160000
DTEND:20240128T170000
LOCATION:Elisabeth-Selbert-Gymnasium Halle\, 70794 Bernhausen
END:VEVENT
BEGIN:VEVENT
UID:77a57ccd47895dcd9bbc0708d6100f31
DTSTAMP:20260421T112043Z
SUMMARY:[männliche B-Jugend Runde] CVJM Möglingen  - CVJM Wildberg a.K.
URL:https://www.eichenkreuzliga.de/handball/game/id/17063
DTSTART:20240218T123000
DTEND:20240218T133000
LOCATION:Stadionhalle\, 71696 Möglingen
END:VEVENT
BEGIN:VEVENT
UID:bc87398f51f09f7ea9817d53128f7ebf
DTSTAMP:20260421T112043Z
SUMMARY:[männliche B-Jugend Runde] CVJM HB Dußlingen-Gomaringen  - CVJM M
 öglingen 
URL:https://www.eichenkreuzliga.de/handball/game/id/17064
DTSTART:20240310T000000
DTEND:20240310T010000
LOCATION:Hönisch Sporthalle\, 72144 Dusslingen
END:VEVENT
BEGIN:VEVENT
UID:bcb46a2f0c750cb9370dda676b45fcb3
DTSTAMP:20260421T112043Z
SUMMARY:[männliche B-Jugend Runde] CVJM Wildberg a.K. - CVJM HB Dußlingen
 -Gomaringen 
URL:https://www.eichenkreuzliga.de/handball/game/id/17065
DTSTART:20240303T150000
DTEND:20240303T160000
LOCATION:Sporthalle Wildberg\, 72218 Wildberg
END:VEVENT
BEGIN:VEVENT
UID:36a9671f2190e434f9a604f25c610d2b
DTSTAMP:20260421T112043Z
SUMMARY:[männliche B-Jugend Runde] EJW Münchingen  - EK Köngen 
URL:https://www.eichenkreuzliga.de/handball/game/id/17175
DTSTART:20240317T130000
DTEND:20240317T140000
LOCATION:Sporthalle Münchingen\, 70825 Korntal-Münchingen
END:VEVENT
BEGIN:VEVENT
UID:cbcd1615b26ff79fba1c554751139f23
DTSTAMP:20260421T112043Z
SUMMARY:[männliche B-Jugend Runde] EK Köngen  - EK Bernhausen 
URL:https://www.eichenkreuzliga.de/handball/game/id/17241
DTSTART:20231202T140000
DTEND:20231202T150000
LOCATION:Burgschulhalle\, 73257 Köngen
END:VEVENT
BEGIN:VEVENT
UID:90aa7ae83040347cc22bc24f56c68c7e
DTSTAMP:20260421T112043Z
SUMMARY:[männliche B-Jugend Runde] EK Köngen  - CVJM Flacht 
URL:https://www.eichenkreuzliga.de/handball/game/id/17242
DTSTART:20240120T150000
DTEND:20240120T160000
LOCATION:Burgschulhalle\, 73257 Köngen
END:VEVENT
BEGIN:VEVENT
UID:f28ff4fd5e88a320c74a9e3f5a09ab01
DTSTAMP:20260421T112043Z
SUMMARY:[männliche B-Jugend Runde] EK Bernhausen  - EJW Münchingen 
URL:https://www.eichenkreuzliga.de/handball/game/id/17245
DTSTART:20231021T111500
DTEND:20231021T121500
LOCATION:Elisabeth-Selbert-Gymnasium Halle\, 70794 Bernhausen
END:VEVENT
BEGIN:VEVENT
UID:05b524b8e8dce07908adb3911179fa56
DTSTAMP:20260421T112043Z
SUMMARY:[männliche B-Jugend Runde] CVJM Flacht  - CVJM Möglingen 
URL:https://www.eichenkreuzliga.de/handball/game/id/17246
DTSTART:20240302T151500
DTEND:20240302T161500
LOCATION:Sporthalle Flacht\, 71287 Weissach
END:VEVENT
END:VCALENDAR
