BEGIN:VCALENDAR
PRODID:-//eluceo/ical//2.0/EN
VERSION:2.0
CALSCALE:GREGORIAN
BEGIN:VEVENT
UID:ad52392751b0707fc43f701681a36c81
DTSTAMP:20260419T122610Z
SUMMARY:[weibliche B-Jugend Runde] CVJM Kusterdingen e.V. Kusterdingen-Hage
 lloch - CVJM HB Dußlingen-Gomaringen 
URL:https://www.eichenkreuzliga.de/handball/game/id/17111
DTSTART:20231125T163000
DTEND:20231125T173000
LOCATION:Härtensporthalle\, 72127 Kusterdingen
END:VEVENT
BEGIN:VEVENT
UID:4fcbca0c456f99a67d18b98d784c38a2
DTSTAMP:20260419T122610Z
SUMMARY:[weibliche B-Jugend Runde] CVJM Hülben  - CVJM HB Dußlingen-Gomar
 ingen 
URL:https://www.eichenkreuzliga.de/handball/game/id/17119
DTSTART:20231022T150000
DTEND:20231022T160000
LOCATION:Falkensteinhalle\, 72582 Grabenstetten
END:VEVENT
BEGIN:VEVENT
UID:3481c16af4de87e4eded60c88047da80
DTSTAMP:20260419T122610Z
SUMMARY:[weibliche B-Jugend Runde] CVJM Hülben  - EJW Münchingen AK als w
 B2
URL:https://www.eichenkreuzliga.de/handball/game/id/17120
DTSTART:20240317T143000
DTEND:20240317T153000
LOCATION:Falkensteinhalle\, 72582 Grabenstetten
END:VEVENT
BEGIN:VEVENT
UID:92bba8fd62d9e83494d0b9bca460c1cb
DTSTAMP:20260419T122610Z
SUMMARY:[weibliche B-Jugend Runde] EK Bernhausen a.K. - CVJM Hülben 
URL:https://www.eichenkreuzliga.de/handball/game/id/17121
DTSTART:20240413T143000
DTEND:20240413T153000
LOCATION:Elisabeth-Selbert-Gymnasium Halle\, 70794 Bernhausen
END:VEVENT
BEGIN:VEVENT
UID:e1eefbb5d1608bc1dfc2a00188266867
DTSTAMP:20260419T122610Z
SUMMARY:[weibliche B-Jugend Runde] EK Bernhausen a.K. - EJW Münchingen AK 
 als wB2
URL:https://www.eichenkreuzliga.de/handball/game/id/17122
DTSTART:20240420T160000
DTEND:20240420T170000
LOCATION:Elisabeth-Selbert-Gymnasium Halle\, 70794 Bernhausen
END:VEVENT
BEGIN:VEVENT
UID:af951ec73616914091f1c696dae06565
DTSTAMP:20260419T122610Z
SUMMARY:[weibliche B-Jugend Runde] CVJM Kusterdingen e.V. Kusterdingen-Hage
 lloch - EJW Münchingen AK als wB2
URL:https://www.eichenkreuzliga.de/handball/game/id/17125
DTSTART:20231216T153000
DTEND:20231216T163000
LOCATION:Härtensporthalle\, 72127 Kusterdingen
END:VEVENT
BEGIN:VEVENT
UID:2784ce8da8ca578377bf76008af86f4c
DTSTAMP:20260419T122610Z
SUMMARY:[weibliche B-Jugend Runde] CVJM HB Dußlingen-Gomaringen  - EJW Mü
 nchingen 
URL:https://www.eichenkreuzliga.de/handball/game/id/17126
DTSTART:20231216T124500
DTEND:20231216T134500
LOCATION:Hönisch Sporthalle\, 72144 Dusslingen
END:VEVENT
BEGIN:VEVENT
UID:308d968252df9061b4364b19dcc3a247
DTSTAMP:20260419T122610Z
SUMMARY:[weibliche B-Jugend Runde] CVJM Hülben  - CVJM Möglingen 
URL:https://www.eichenkreuzliga.de/handball/game/id/17128
DTSTART:20240127T143000
DTEND:20240127T153000
LOCATION:Falkensteinhalle\, 72582 Grabenstetten
END:VEVENT
BEGIN:VEVENT
UID:fab92fedd7fc31dce53c4f26a3688aef
DTSTAMP:20260419T122610Z
SUMMARY:[weibliche B-Jugend Runde] CVJM Hülben  - EJW Münchingen 
URL:https://www.eichenkreuzliga.de/handball/game/id/17129
DTSTART:20240224T160000
DTEND:20240224T170000
LOCATION:Falkensteinhalle\, 72582 Grabenstetten
END:VEVENT
BEGIN:VEVENT
UID:362965eff45747f471fb07e075133b10
DTSTAMP:20260419T122610Z
SUMMARY:[weibliche B-Jugend Runde] EJW Münchingen AK als wB2 - CVJM Kirche
 ntellinsfurt 
URL:https://www.eichenkreuzliga.de/handball/game/id/17130
DTSTART:20231022T160000
DTEND:20231022T170000
LOCATION:Sporthalle Münchingen\, 70825 Korntal-Münchingen
END:VEVENT
BEGIN:VEVENT
UID:6919bdecec73e4866b101bc529d60e93
DTSTAMP:20260419T122610Z
SUMMARY:[weibliche B-Jugend Runde] EJW Münchingen  - CVJM Möglingen 
URL:https://www.eichenkreuzliga.de/handball/game/id/17131
DTSTART:20231022T130000
DTEND:20231022T140000
LOCATION:Sporthalle Münchingen\, 70825 Korntal-Münchingen
END:VEVENT
BEGIN:VEVENT
UID:347682f165fbf835d86ddd76b81073a7
DTSTAMP:20260419T122610Z
SUMMARY:[weibliche B-Jugend Runde] EK Bernhausen a.K. - CVJM SG Mössingen/
 Belsen 
URL:https://www.eichenkreuzliga.de/handball/game/id/17132
DTSTART:20231021T130000
DTEND:20231021T140000
LOCATION:Elisabeth-Selbert-Gymnasium Halle\, 70794 Bernhausen
END:VEVENT
BEGIN:VEVENT
UID:c10eea02adb714a30068841f72eba4c0
DTSTAMP:20260419T122610Z
SUMMARY:[weibliche B-Jugend Runde] CVJM Kusterdingen e.V. Kusterdingen-Hage
 lloch - EK Bernhausen a.K.
URL:https://www.eichenkreuzliga.de/handball/game/id/17133
DTSTART:20231111T151500
DTEND:20231111T161500
LOCATION:Härtensporthalle\, 72127 Kusterdingen
END:VEVENT
BEGIN:VEVENT
UID:39e21310728d5eb509d698e63d69f09d
DTSTAMP:20260419T122610Z
SUMMARY:[weibliche B-Jugend Runde] CVJM Kirchentellinsfurt  - EJW Münching
 en 
URL:https://www.eichenkreuzliga.de/handball/game/id/17136
DTSTART:20231118T143000
DTEND:20231118T153000
LOCATION:Sporthalle\, 72138 Kirchentellinsfurt
END:VEVENT
BEGIN:VEVENT
UID:2a9b81d8849e460daa1098862cdb9018
DTSTAMP:20260419T122610Z
SUMMARY:[weibliche B-Jugend Runde] CVJM Möglingen  - EK Bernhausen a.K.
URL:https://www.eichenkreuzliga.de/handball/game/id/17137
DTSTART:20231118T144500
DTEND:20231118T154500
LOCATION:Stadionhalle\, 71696 Möglingen
END:VEVENT
BEGIN:VEVENT
UID:9f24b57a8baef628cce79860f317f8b6
DTSTAMP:20260419T122610Z
SUMMARY:[weibliche B-Jugend Runde] EK Bernhausen a.K. - CVJM HB Dußlingen-
 Gomaringen 
URL:https://www.eichenkreuzliga.de/handball/game/id/17138
DTSTART:20231202T134500
DTEND:20231202T144500
LOCATION:Elisabeth-Selbert-Gymnasium Halle\, 70794 Bernhausen
END:VEVENT
BEGIN:VEVENT
UID:28c961fa084cdb6379efa6348153c207
DTSTAMP:20260419T122610Z
SUMMARY:[weibliche B-Jugend Runde] CVJM Möglingen  - CVJM Kusterdingen e.V
 . Kusterdingen-Hagelloch
URL:https://www.eichenkreuzliga.de/handball/game/id/17141
DTSTART:20240413T141500
DTEND:20240413T151500
LOCATION:Stadionhalle\, 71696 Möglingen
END:VEVENT
BEGIN:VEVENT
UID:87b479982d82545e30efbf93e32c93f5
DTSTAMP:20260419T122610Z
SUMMARY:[weibliche B-Jugend Runde] CVJM Hülben  - CVJM Kirchentellinsfurt 
URL:https://www.eichenkreuzliga.de/handball/game/id/17142
DTSTART:20231125T164500
DTEND:20231125T174500
LOCATION:Falkensteinhalle\, 72582 Grabenstetten
END:VEVENT
BEGIN:VEVENT
UID:7d02a4655e274faa766b8f185cc65dd9
DTSTAMP:20260419T122610Z
SUMMARY:[weibliche B-Jugend Runde] EJW Münchingen AK als wB2 - EJW Münchi
 ngen 
URL:https://www.eichenkreuzliga.de/handball/game/id/17145
DTSTART:20231203T141500
DTEND:20231203T151500
LOCATION:Sporthalle Münchingen\, 70825 Korntal-Münchingen
END:VEVENT
BEGIN:VEVENT
UID:2e763d943d7a09f4a073f8e5b9a16eb4
DTSTAMP:20260419T122610Z
SUMMARY:[weibliche B-Jugend Runde] EJW Münchingen AK als wB2 - CVJM Hülbe
 n 
URL:https://www.eichenkreuzliga.de/handball/game/id/17146
DTSTART:20231119T143000
DTEND:20231119T153000
LOCATION:Sporthalle Münchingen\, 70825 Korntal-Münchingen
END:VEVENT
BEGIN:VEVENT
UID:41e983bbbf1c511ad94f0d08ba3b3abb
DTSTAMP:20260419T122610Z
SUMMARY:[weibliche B-Jugend Runde] CVJM Kusterdingen e.V. Kusterdingen-Hage
 lloch - CVJM Hülben 
URL:https://www.eichenkreuzliga.de/handball/game/id/17147
DTSTART:20240120T150000
DTEND:20240120T160000
LOCATION:Härtensporthalle\, 72127 Kusterdingen
END:VEVENT
BEGIN:VEVENT
UID:322cc380dbb48e472bd4132e5df0caa4
DTSTAMP:20260419T122610Z
SUMMARY:[weibliche B-Jugend Runde] EJW Münchingen AK als wB2 - CVJM HB Du
 ßlingen-Gomaringen 
URL:https://www.eichenkreuzliga.de/handball/game/id/17151
DTSTART:20240121T160000
DTEND:20240121T170000
LOCATION:Sporthalle Münchingen\, 70825 Korntal-Münchingen
END:VEVENT
BEGIN:VEVENT
UID:2e5a511235a4870e2225eb62e577a3fb
DTSTAMP:20260419T122610Z
SUMMARY:[weibliche B-Jugend Runde] CVJM HB Dußlingen-Gomaringen  - CVJM Ki
 rchentellinsfurt 
URL:https://www.eichenkreuzliga.de/handball/game/id/17152
DTSTART:20240414T133000
DTEND:20240414T143000
LOCATION:Sporthalle\, 72138 Kirchentellinsfurt
END:VEVENT
BEGIN:VEVENT
UID:3c8f2e6e2ff83f3a2bbf7dde500f7dd5
DTSTAMP:20260419T122610Z
SUMMARY:[weibliche B-Jugend Runde] EK Bernhausen a.K. - EJW Münchingen AK 
 als wB2
URL:https://www.eichenkreuzliga.de/handball/game/id/17155
DTSTART:20240127T163000
DTEND:20240127T173000
LOCATION:Elisabeth-Selbert-Gymnasium Halle\, 70794 Bernhausen
END:VEVENT
BEGIN:VEVENT
UID:5bb78e0205cab8e94be1397eadd51180
DTSTAMP:20260419T122610Z
SUMMARY:[weibliche B-Jugend Runde] CVJM HB Dußlingen-Gomaringen  - CVJM M
 öglingen 
URL:https://www.eichenkreuzliga.de/handball/game/id/17157
DTSTART:20240224T130000
DTEND:20240224T140000
LOCATION:Hönisch Sporthalle\, 72144 Dusslingen
END:VEVENT
BEGIN:VEVENT
UID:2218b6da4e4f3baffad5d5f96dd5db43
DTSTAMP:20260419T122610Z
SUMMARY:[weibliche B-Jugend Runde] EJW Münchingen AK als wB2 - CVJM Mögli
 ngen 
URL:https://www.eichenkreuzliga.de/handball/game/id/17159
DTSTART:20240303T130000
DTEND:20240303T140000
LOCATION:Sporthalle Münchingen\, 70825 Korntal-Münchingen
END:VEVENT
BEGIN:VEVENT
UID:e5cf9a2445d603945fa3c0faa39650e4
DTSTAMP:20260419T122610Z
SUMMARY:[weibliche B-Jugend Runde] CVJM HB Dußlingen-Gomaringen  - CVJM SG
  Mössingen/Belsen 
URL:https://www.eichenkreuzliga.de/handball/game/id/17160
DTSTART:20240203T133000
DTEND:20240203T143000
LOCATION:Hönisch Sporthalle\, 72144 Dusslingen
END:VEVENT
BEGIN:VEVENT
UID:50e3df20997e59875094397558dc8f69
DTSTAMP:20260419T122610Z
SUMMARY:[weibliche B-Jugend Runde] CVJM Kirchentellinsfurt  - CVJM Kusterdi
 ngen e.V. Kusterdingen-Hagelloch
URL:https://www.eichenkreuzliga.de/handball/game/id/17161
DTSTART:20240302T150000
DTEND:20240302T160000
LOCATION:Härtensporthalle\, 72127 Kusterdingen
END:VEVENT
BEGIN:VEVENT
UID:08cdf13fe65465c5fae048c659a6e9d5
DTSTAMP:20260419T122610Z
SUMMARY:[weibliche B-Jugend Runde] CVJM Kirchentellinsfurt  - CVJM Mögling
 en 
URL:https://www.eichenkreuzliga.de/handball/game/id/17163
DTSTART:20240114T143000
DTEND:20240114T153000
LOCATION:Sporthalle\, 72138 Kirchentellinsfurt
END:VEVENT
BEGIN:VEVENT
UID:ffda3f0818347bb2430eaad94c5dd5df
DTSTAMP:20260419T122610Z
SUMMARY:[weibliche B-Jugend Runde] EK Bernhausen a.K. - CVJM Kirchentellins
 furt 
URL:https://www.eichenkreuzliga.de/handball/game/id/17164
DTSTART:20240113T130000
DTEND:20240113T140000
LOCATION:Elisabeth-Selbert-Gymnasium Halle\, 70794 Bernhausen
END:VEVENT
BEGIN:VEVENT
UID:b5e5d671b9760863c4264d0eb79ba60b
DTSTAMP:20260419T122610Z
SUMMARY:[weibliche B-Jugend Runde] EK Bernhausen a.K. - CVJM Hülben 
URL:https://www.eichenkreuzliga.de/handball/game/id/17165
DTSTART:20240203T160000
DTEND:20240203T170000
LOCATION:Elisabeth-Selbert-Gymnasium Halle\, 70794 Bernhausen
END:VEVENT
BEGIN:VEVENT
UID:a58050483f23beb9a61ee42ab1259671
DTSTAMP:20260419T122610Z
SUMMARY:[weibliche B-Jugend Runde] EJW Münchingen  - EK Bernhausen a.K.
URL:https://www.eichenkreuzliga.de/handball/game/id/17166
DTSTART:20240303T143000
DTEND:20240303T153000
LOCATION:Sporthalle Münchingen\, 70825 Korntal-Münchingen
END:VEVENT
BEGIN:VEVENT
UID:fceef2273999838761d56fc6eb642520
DTSTAMP:20260419T122610Z
SUMMARY:[weibliche B-Jugend Runde] CVJM SG Mössingen/Belsen  - EJW Münchi
 ngen AK als wB2
URL:https://www.eichenkreuzliga.de/handball/game/id/17167
DTSTART:20240225T163000
DTEND:20240225T173000
LOCATION:Jahnhalle 2\, 72116 Mössingen
END:VEVENT
BEGIN:VEVENT
UID:830f717a622c404ca8850e73603929ab
DTSTAMP:20260419T122610Z
SUMMARY:[weibliche B-Jugend Runde] CVJM SG Mössingen/Belsen  - EJW Münchi
 ngen 
URL:https://www.eichenkreuzliga.de/handball/game/id/17168
DTSTART:20240120T130000
DTEND:20240120T140000
LOCATION:Jahnhalle 2\, 72116 Mössingen
END:VEVENT
BEGIN:VEVENT
UID:7d0173dcc0ee935e021d8ecb91f7855a
DTSTAMP:20260419T122610Z
SUMMARY:[weibliche B-Jugend Runde] EJW Münchingen  - CVJM Kusterdingen e.V
 . Kusterdingen-Hagelloch
URL:https://www.eichenkreuzliga.de/handball/game/id/17170
DTSTART:20240128T130000
DTEND:20240128T140000
LOCATION:Sporthalle Münchingen\, 70825 Korntal-Münchingen
END:VEVENT
BEGIN:VEVENT
UID:e83b6d725cbe7d364d2ce60826469b4d
DTSTAMP:20260419T122610Z
SUMMARY:[weibliche B-Jugend Runde] CVJM SG Mössingen/Belsen  - CVJM Kuster
 dingen e.V. Kusterdingen-Hagelloch
URL:https://www.eichenkreuzliga.de/handball/game/id/17171
DTSTART:20240309T124500
DTEND:20240309T134500
LOCATION:Jahnhalle 2\, 72116 Mössingen
END:VEVENT
BEGIN:VEVENT
UID:f409b304259f76bf56c30c05358fca63
DTSTAMP:20260419T122610Z
SUMMARY:[weibliche B-Jugend Runde] CVJM Kirchentellinsfurt  - CVJM SG Möss
 ingen/Belsen 
URL:https://www.eichenkreuzliga.de/handball/game/id/17172
DTSTART:20240317T163000
DTEND:20240317T173000
LOCATION:Sporthalle\, 72138 Kirchentellinsfurt
END:VEVENT
BEGIN:VEVENT
UID:bc266d6ac6f1e8a1da42268f2b109c0c
DTSTAMP:20260419T122610Z
SUMMARY:[weibliche B-Jugend Runde] CVJM SG Mössingen/Belsen  - CVJM Hülbe
 n 
URL:https://www.eichenkreuzliga.de/handball/game/id/17173
DTSTART:20240128T141500
DTEND:20240128T151500
LOCATION:Jahnhalle 2\, 72116 Mössingen
END:VEVENT
BEGIN:VEVENT
UID:8f3e1dd1c973d09ce9bf5f33dd0ae03c
DTSTAMP:20260419T122610Z
SUMMARY:[weibliche B-Jugend Runde] CVJM SG Mössingen/Belsen  - CVJM Mögli
 ngen 
URL:https://www.eichenkreuzliga.de/handball/game/id/17174
DTSTART:20231125T130000
DTEND:20231125T140000
LOCATION:Jahnhalle 2\, 72116 Mössingen
END:VEVENT
END:VCALENDAR
