BEGIN:VCALENDAR
PRODID:-//eluceo/ical//2.0/EN
VERSION:2.0
CALSCALE:GREGORIAN
BEGIN:VEVENT
UID:3fd50452c080617a05bf33d879d6e61c
DTSTAMP:20260425T142319Z
SUMMARY:[männliche A-Jugend Runde] CVJM Flacht  - EK Bernhausen 
URL:https://www.eichenkreuzliga.de/handball/game/id/19571
DTSTART:20251011T170000
DTEND:20251011T180000
LOCATION:Sporthalle Flacht\, 71287 Weissach
END:VEVENT
BEGIN:VEVENT
UID:ce7823e12aadf5b7df0e3571b763e2f1
DTSTAMP:20260425T142319Z
SUMMARY:[männliche A-Jugend Runde] CVJM  Walddorfhäslach  - EK Köngen 
URL:https://www.eichenkreuzliga.de/handball/game/id/19572
DTSTART:20251012T160000
DTEND:20251012T170000
LOCATION:Ballspielhalle\, 72141 Walddorfhäslach
END:VEVENT
BEGIN:VEVENT
UID:07fcada1b8a470910f750142f15d7624
DTSTAMP:20260425T142319Z
SUMMARY:[männliche A-Jugend Runde] CVJM HB Dußlingen-Gomaringen  - CVJM  
 Walddorfhäslach 
URL:https://www.eichenkreuzliga.de/handball/game/id/19573
DTSTART:20251019T160000
DTEND:20251019T170000
LOCATION:Hönisch Sporthalle\, 72144 Dusslingen
END:VEVENT
BEGIN:VEVENT
UID:244aeaf15d97aa550dd84728bc30daad
DTSTAMP:20260425T142319Z
SUMMARY:[männliche A-Jugend Runde] EK Bernhausen  - CVJM HB Dußlingen-Gom
 aringen 
URL:https://www.eichenkreuzliga.de/handball/game/id/19579
DTSTART:20251108T153000
DTEND:20251108T163000
LOCATION:Seefälle Halle\, 70794  Bonlanden
END:VEVENT
BEGIN:VEVENT
UID:e2073adabfe618ca5bb756ad31f49705
DTSTAMP:20260425T142319Z
SUMMARY:[männliche A-Jugend Runde] CVJM  Walddorfhäslach  - EK Bernhausen
  
URL:https://www.eichenkreuzliga.de/handball/game/id/19584
DTSTART:20251206T000000
DTEND:20251206T010000
LOCATION:Ballspielhalle\, 72141 Walddorfhäslach
END:VEVENT
BEGIN:VEVENT
UID:43ee1add10f1fc730228977ab8eb6bb9
DTSTAMP:20260425T142319Z
SUMMARY:[männliche A-Jugend Runde] CVJM HB Dußlingen-Gomaringen  - EK Ber
 nhausen 
URL:https://www.eichenkreuzliga.de/handball/game/id/19587
DTSTART:20260207T160000
DTEND:20260207T170000
LOCATION:Hönisch Sporthalle\, 72144 Dusslingen
END:VEVENT
BEGIN:VEVENT
UID:701951652784693aec16dd49af5a7f44
DTSTAMP:20260425T142319Z
SUMMARY:[männliche A-Jugend Runde] CVJM Flacht  - EK Köngen 
URL:https://www.eichenkreuzliga.de/handball/game/id/19591
DTSTART:20260228T170000
DTEND:20260228T180000
LOCATION:Sporthalle Flacht\, 71287 Weissach
END:VEVENT
BEGIN:VEVENT
UID:fae24402fecc14f53effcdd67b44a2dd
DTSTAMP:20260425T142319Z
SUMMARY:[männliche A-Jugend Runde] EK Bernhausen  - CVJM  Walddorfhäslach
  
URL:https://www.eichenkreuzliga.de/handball/game/id/19592
DTSTART:20260228T174500
DTEND:20260228T184500
LOCATION:Elisabeth-Selbert-Gymnasium Halle\, 70794 Bernhausen
END:VEVENT
BEGIN:VEVENT
UID:16cdc9221a13a3ee4b4987b405f72a89
DTSTAMP:20260425T142319Z
SUMMARY:[männliche A-Jugend Runde] EK Köngen  - CVJM HB Dußlingen-Gomari
 ngen 
URL:https://www.eichenkreuzliga.de/handball/game/id/19597
DTSTART:20251115T153000
DTEND:20251115T163000
LOCATION:Burgschulhalle\, 73257 Köngen
END:VEVENT
BEGIN:VEVENT
UID:3cc8555a2602e6869cb8c8b4a2f15203
DTSTAMP:20260425T142319Z
SUMMARY:[männliche A-Jugend Runde] CVJM  Walddorfhäslach  - CVJM HB Dußl
 ingen-Gomaringen 
URL:https://www.eichenkreuzliga.de/handball/game/id/19600
DTSTART:20260110T163000
DTEND:20260110T173000
LOCATION:Ballspielhalle\, 72141 Walddorfhäslach
END:VEVENT
BEGIN:VEVENT
UID:d7d2d5eee76133dafbb9a8ccde8b8bd9
DTSTAMP:20260425T142319Z
SUMMARY:[männliche A-Jugend Runde] CVJM Flacht  - CVJM HB Dußlingen-Gomar
 ingen 
URL:https://www.eichenkreuzliga.de/handball/game/id/19602
DTSTART:20260131T170000
DTEND:20260131T180000
LOCATION:Sporthalle Flacht\, 71287 Weissach
END:VEVENT
BEGIN:VEVENT
UID:26b322b5f72ce7df68210274df90533b
DTSTAMP:20260425T142319Z
SUMMARY:[männliche A-Jugend Runde] CVJM Flacht  - CVJM  Walddorfhäslach 
URL:https://www.eichenkreuzliga.de/handball/game/id/19609
DTSTART:20260117T170000
DTEND:20260117T180000
LOCATION:Sporthalle Flacht\, 71287 Weissach
END:VEVENT
BEGIN:VEVENT
UID:1324e4150499440bddd4442544e4caa9
DTSTAMP:20260425T142319Z
SUMMARY:[männliche A-Jugend Runde] CVJM  Walddorfhäslach  - CVJM Flacht 
URL:https://www.eichenkreuzliga.de/handball/game/id/19610
DTSTART:20260207T000000
DTEND:20260207T010000
LOCATION:Ballspielhalle\, 72141 Walddorfhäslach
END:VEVENT
BEGIN:VEVENT
UID:8f476883567237c946f5093927e68fcd
DTSTAMP:20260425T142319Z
SUMMARY:[männliche A-Jugend Runde] CVJM HB Dußlingen-Gomaringen  - EK Kö
 ngen 
URL:https://www.eichenkreuzliga.de/handball/game/id/19613
DTSTART:20260117T140000
DTEND:20260117T150000
LOCATION:Hönisch Sporthalle\, 72144 Dusslingen
END:VEVENT
BEGIN:VEVENT
UID:1788450fc63e243bf17aa480f9e045e1
DTSTAMP:20260425T142319Z
SUMMARY:[männliche A-Jugend Runde] CVJM HB Dußlingen-Gomaringen  - CVJM F
 lacht 
URL:https://www.eichenkreuzliga.de/handball/game/id/19616
DTSTART:20251129T151500
DTEND:20251129T161500
LOCATION:Hönisch Sporthalle\, 72144 Dusslingen
END:VEVENT
BEGIN:VEVENT
UID:b67cc3a3f10fcbd42e01ddfff4d8241c
DTSTAMP:20260425T142319Z
SUMMARY:[männliche A-Jugend Runde] EK Bernhausen  - EK Köngen 
URL:https://www.eichenkreuzliga.de/handball/game/id/19618
DTSTART:20260124T140000
DTEND:20260124T150000
LOCATION:Elisabeth-Selbert-Gymnasium Halle\, 70794 Bernhausen
END:VEVENT
BEGIN:VEVENT
UID:d3f37b483a1bb3d17abbed1a619f15f5
DTSTAMP:20260425T142319Z
SUMMARY:[männliche A-Jugend Runde] EK Bernhausen  - CVJM Flacht 
URL:https://www.eichenkreuzliga.de/handball/game/id/19619
DTSTART:20251122T134500
DTEND:20251122T144500
LOCATION:Brandfeldhalle Harthausen\, 70794 Filderstadt
END:VEVENT
BEGIN:VEVENT
UID:ad4af2acdd84946dee37914f52544643
DTSTAMP:20260425T142319Z
SUMMARY:[männliche A-Jugend Runde] EK Köngen  - EK Bernhausen 
URL:https://www.eichenkreuzliga.de/handball/game/id/19741
DTSTART:20251018T150000
DTEND:20251018T160000
LOCATION:Burgschulhalle\, 73257 Köngen
END:VEVENT
BEGIN:VEVENT
UID:34df9fedeacee6a8f91380257f4808eb
DTSTAMP:20260425T142319Z
SUMMARY:[männliche A-Jugend Runde] EK Köngen  - CVJM Flacht 
URL:https://www.eichenkreuzliga.de/handball/game/id/19744
DTSTART:20260121T191500
DTEND:20260121T201500
LOCATION:Burgschulhalle\, 73257 Köngen
END:VEVENT
BEGIN:VEVENT
UID:01a97bbc953c9860d72351dd8120aea7
DTSTAMP:20260425T142319Z
SUMMARY:[männliche A-Jugend Runde] EK Köngen  - CVJM  Walddorfhäslach 
URL:https://www.eichenkreuzliga.de/handball/game/id/19748
DTSTART:20260131T151000
DTEND:20260131T161000
LOCATION:Burgschulhalle\, 73257 Köngen
END:VEVENT
END:VCALENDAR
