BEGIN:VCALENDAR
PRODID:-//eluceo/ical//2.0/EN
VERSION:2.0
CALSCALE:GREGORIAN
BEGIN:VEVENT
UID:37e6095c2fd8651f56b0d84d9a6152fb
DTSTAMP:20260419T131021Z
SUMMARY:[männliche C-Jugend Finalrunde] CVJM  Walddorfhäslach  - CVJM HB 
 Dußlingen-Gomaringen 1
URL:https://www.eichenkreuzliga.de/handball/game/id/19624
DTSTART:20260314T140000
DTEND:20260314T150000
LOCATION:Kreissporthalle Tübingen\, 72072 Tübingen
END:VEVENT
BEGIN:VEVENT
UID:973d08ef85e43b44f44a8c5d36a0f66e
DTSTAMP:20260419T131021Z
SUMMARY:[männliche C-Jugend Finalrunde] EK Bernhausen  - EK Köngen 
URL:https://www.eichenkreuzliga.de/handball/game/id/19625
DTSTART:20260314T160000
DTEND:20260314T170000
LOCATION:Kreissporthalle Tübingen\, 72072 Tübingen
END:VEVENT
BEGIN:VEVENT
UID:8f3aab0de4ef89f84c5e28256298b5b2
DTSTAMP:20260419T131021Z
SUMMARY:[männliche C-Jugend Finalrunde] EK Bernhausen  - CVJM HB Dußlinge
 n-Gomaringen 1
URL:https://www.eichenkreuzliga.de/handball/game/id/19626
DTSTART:20260419T163000
DTEND:20260419T173000
LOCATION:Hönisch Sporthalle\, 72144 Dusslingen
END:VEVENT
BEGIN:VEVENT
UID:636f249d5b48efe76b5a969e3956474e
DTSTAMP:20260419T131021Z
SUMMARY:[männliche C-Jugend Finalrunde] EK Köngen  - CVJM  Walddorfhäsla
 ch 
URL:https://www.eichenkreuzliga.de/handball/game/id/19627
DTSTART:20260419T180000
DTEND:20260419T190000
LOCATION:Hönisch Sporthalle\, 72144 Dusslingen
END:VEVENT
END:VCALENDAR
