BEGIN:VCALENDAR
PRODID:-//eluceo/ical//2.0/EN
VERSION:2.0
CALSCALE:GREGORIAN
BEGIN:VEVENT
UID:92e0484446256649e8bb57cb10e2b3c6
DTSTAMP:20260423T035108Z
SUMMARY:[weibliche D-Jugend Runde] CVJM  Walddorfhäslach  - CVJM SG Mössi
 ngen/Belsen 
URL:https://www.eichenkreuzliga.de/handball/game/id/11321
DTSTART:20201011T000000
DTEND:20201011T010000
LOCATION:Ballspielhalle\, 72141 Walddorfhäslach
END:VEVENT
END:VCALENDAR
