BEGIN:VCALENDAR
PRODID:-//eluceo/ical//2.0/EN
VERSION:2.0
CALSCALE:GREGORIAN
BEGIN:VEVENT
UID:9c43ba5c4f6fe703b3d4b20038ba77fc
DTSTAMP:20260423T033411Z
SUMMARY:[weibliche D-Jugend Runde] CVJM Möglingen  - CVJM  Walddorfhäslac
 h 
URL:https://www.eichenkreuzliga.de/handball/game/id/11350
DTSTART:20210206T110000
DTEND:20210206T120000
LOCATION:Stadionhalle\, 71696 Möglingen
END:VEVENT
END:VCALENDAR
