BEGIN:VCALENDAR
PRODID:-//eluceo/ical//2.0/EN
VERSION:2.0
CALSCALE:GREGORIAN
BEGIN:VEVENT
UID:72cde9a0274f6898940abb0bde5da691
DTSTAMP:20260423T052328Z
SUMMARY:[weibliche D-Jugend Runde] CVJM SG Mössingen/Belsen  - CVJM Kirche
 ntellinsfurt 
URL:https://www.eichenkreuzliga.de/handball/game/id/11352
DTSTART:20201213T130000
DTEND:20201213T140000
LOCATION:Jahnhalle 2\, 72116 Mössingen
END:VEVENT
END:VCALENDAR
