BEGIN:VCALENDAR
PRODID:-//eluceo/ical//2.0/EN
VERSION:2.0
CALSCALE:GREGORIAN
BEGIN:VEVENT
UID:56b452b8d30f74e89832bdc7920bc1a8
DTSTAMP:20260423T051300Z
SUMMARY:[männliche E-Jugend Runde] CVJM Hagelloch - Kusterdingen 1 - CVJM 
 Kirchentellinsfurt 
URL:https://www.eichenkreuzliga.de/handball/game/id/11386
DTSTART:20201107T150000
DTEND:20201107T160000
LOCATION:Zeppelinhalle\, 70734 Fellbach
END:VEVENT
END:VCALENDAR
