BEGIN:VCALENDAR
PRODID:-//eluceo/ical//2.0/EN
VERSION:2.0
CALSCALE:GREGORIAN
BEGIN:VEVENT
UID:48c76e40d5e59fc7a2914e46a06951e8
DTSTAMP:20260423T051203Z
SUMMARY:[männliche E-Jugend Runde] CVJM Hagelloch - Kusterdingen 1 - CVJM 
 Hülben 
URL:https://www.eichenkreuzliga.de/handball/game/id/11387
DTSTART:20201107T130000
DTEND:20201107T140000
LOCATION:Zeppelinhalle\, 70734 Fellbach
END:VEVENT
END:VCALENDAR
