BEGIN:VCALENDAR
PRODID:-//eluceo/ical//2.0/EN
VERSION:2.0
CALSCALE:GREGORIAN
BEGIN:VEVENT
UID:59d0271cb735e2958f53c3fcfe11360c
DTSTAMP:20260423T080904Z
SUMMARY:[männliche E-Jugend Runde] CVJM HB Dußlingen-Gomaringen 1 - CVJM 
 Plochingen a.K.
URL:https://www.eichenkreuzliga.de/handball/game/id/11389
DTSTART:20201107T155000
DTEND:20201107T165000
LOCATION:Hönisch Sporthalle\, 72144 Dusslingen
END:VEVENT
END:VCALENDAR
