BEGIN:VCALENDAR
PRODID:-//eluceo/ical//2.0/EN
VERSION:2.0
CALSCALE:GREGORIAN
BEGIN:VEVENT
UID:d60ee034077cdbc131eb10473f874f47
DTSTAMP:20260423T064804Z
SUMMARY:[männliche E-Jugend Runde] CVJM HB Dußlingen-Gomaringen 2 A.K. - 
 CVJM SG Mössingen/Belsen 
URL:https://www.eichenkreuzliga.de/handball/game/id/11390
DTSTART:20201107T140000
DTEND:20201107T150000
LOCATION:Hönisch Sporthalle\, 72144 Dusslingen
END:VEVENT
END:VCALENDAR
