BEGIN:VCALENDAR
PRODID:-//eluceo/ical//2.0/EN
VERSION:2.0
CALSCALE:GREGORIAN
BEGIN:VEVENT
UID:ea8235befee2075ab6327f1c24fbe902
DTSTAMP:20260423T064803Z
SUMMARY:[männliche E-Jugend Runde] EK Bernhausen 1 - EK Köngen 
URL:https://www.eichenkreuzliga.de/handball/game/id/11395
DTSTART:20201107T150000
DTEND:20201107T160000
LOCATION:Strohgäuhalle\, 71229 Höfingen
END:VEVENT
END:VCALENDAR
