BEGIN:VCALENDAR
PRODID:-//eluceo/ical//2.0/EN
VERSION:2.0
CALSCALE:GREGORIAN
BEGIN:VEVENT
UID:467c9d804b82a1789930a072c034cb1d
DTSTAMP:20260423T052405Z
SUMMARY:[männliche E-Jugend Runde] EK Höfingen  - EK Bernhausen 1
URL:https://www.eichenkreuzliga.de/handball/game/id/11396
DTSTART:20201107T173000
DTEND:20201107T183000
LOCATION:Strohgäuhalle\, 71229 Höfingen
END:VEVENT
END:VCALENDAR
