BEGIN:VCALENDAR
PRODID:-//eluceo/ical//2.0/EN
VERSION:2.0
CALSCALE:GREGORIAN
BEGIN:VEVENT
UID:7ab5894418bc607a891a01b700d4e2e1
DTSTAMP:20260423T064516Z
SUMMARY:[männliche E-Jugend Runde] EJW Münchingen  - EK Köngen 
URL:https://www.eichenkreuzliga.de/handball/game/id/11397
DTSTART:20201107T140000
DTEND:20201107T150000
LOCATION:Strohgäuhalle\, 71229 Höfingen
END:VEVENT
END:VCALENDAR
