BEGIN:VCALENDAR
PRODID:-//eluceo/ical//2.0/EN
VERSION:2.0
CALSCALE:GREGORIAN
BEGIN:VEVENT
UID:808ac89b2495ff138074de3e569c1382
DTSTAMP:20260423T033319Z
SUMMARY:[männliche E-Jugend Runde] CVJM Enzweihingen  - CVJM Kirchentellin
 sfurt 
URL:https://www.eichenkreuzliga.de/handball/game/id/11400
DTSTART:20201213T131000
DTEND:20201213T141000
LOCATION:Ballspielhalle\, 72141 Walddorfhäslach
END:VEVENT
END:VCALENDAR
