BEGIN:VCALENDAR
PRODID:-//eluceo/ical//2.0/EN
VERSION:2.0
CALSCALE:GREGORIAN
BEGIN:VEVENT
UID:219a447e9869462a4af78c2e664f52bd
DTSTAMP:20260423T033216Z
SUMMARY:[männliche E-Jugend Runde] CVJM Enzweihingen  - CVJM Hülben 
URL:https://www.eichenkreuzliga.de/handball/game/id/11401
DTSTART:20201213T141000
DTEND:20201213T151000
LOCATION:Ballspielhalle\, 72141 Walddorfhäslach
END:VEVENT
END:VCALENDAR
