BEGIN:VCALENDAR
PRODID:-//eluceo/ical//2.0/EN
VERSION:2.0
CALSCALE:GREGORIAN
BEGIN:VEVENT
UID:ba901d24705dda11da2d050b2aae4772
DTSTAMP:20260423T064533Z
SUMMARY:[männliche E-Jugend Runde] CVJM Hagelloch - Kusterdingen 1 - CVJM 
 Möglingen 
URL:https://www.eichenkreuzliga.de/handball/game/id/11404
DTSTART:20201213T140000
DTEND:20201213T150000
LOCATION:Härtensporthalle\, 72127 Kusterdingen
END:VEVENT
END:VCALENDAR
