BEGIN:VCALENDAR
PRODID:-//eluceo/ical//2.0/EN
VERSION:2.0
CALSCALE:GREGORIAN
BEGIN:VEVENT
UID:e73e38b11367f5e2d66bf77b96f682eb
DTSTAMP:20260423T064641Z
SUMMARY:[männliche E-Jugend Runde] CVJM Plochingen a.K. - EK Höfingen 
URL:https://www.eichenkreuzliga.de/handball/game/id/11408
DTSTART:20201213T160000
DTEND:20201213T170000
LOCATION:Jahnhalle 2\, 72116 Mössingen
END:VEVENT
END:VCALENDAR
