BEGIN:VCALENDAR
PRODID:-//eluceo/ical//2.0/EN
VERSION:2.0
CALSCALE:GREGORIAN
BEGIN:VEVENT
UID:ffa271180a93f0796fc2545cc03fbf5f
DTSTAMP:20260423T064748Z
SUMMARY:[männliche E-Jugend Runde] CVJM Plochingen a.K. - EK Köngen 
URL:https://www.eichenkreuzliga.de/handball/game/id/11411
DTSTART:20201213T150000
DTEND:20201213T160000
LOCATION:Jahnhalle 2\, 72116 Mössingen
END:VEVENT
END:VCALENDAR
