BEGIN:VCALENDAR
PRODID:-//eluceo/ical//2.0/EN
VERSION:2.0
CALSCALE:GREGORIAN
BEGIN:VEVENT
UID:e057090dfcfae527ac58655e2275a8b1
DTSTAMP:20260423T052452Z
SUMMARY:[männliche E-Jugend Runde] EJW Münchingen  - CVJM HB Dußlingen-G
 omaringen 2 A.K.
URL:https://www.eichenkreuzliga.de/handball/game/id/11413
DTSTART:20201213T154000
DTEND:20201213T164000
LOCATION:Sporthalle Münchingen\, 70825 Korntal-Münchingen
END:VEVENT
END:VCALENDAR
