BEGIN:VCALENDAR
PRODID:-//eluceo/ical//2.0/EN
VERSION:2.0
CALSCALE:GREGORIAN
BEGIN:VEVENT
UID:54b8bd4b7f12fe477fd3867d8862a5d6
DTSTAMP:20260423T064712Z
SUMMARY:[männliche E-Jugend Runde] CVJM Möglingen  - EJW Münchingen 
URL:https://www.eichenkreuzliga.de/handball/game/id/11431
DTSTART:20201121T140000
DTEND:20201121T150000
LOCATION:Elisabeth-Selbert-Gymnasium Halle\, 70794 Bernhausen
END:VEVENT
END:VCALENDAR
