BEGIN:VCALENDAR
PRODID:-//eluceo/ical//2.0/EN
VERSION:2.0
CALSCALE:GREGORIAN
BEGIN:VEVENT
UID:40382a8c8ca4667589c4268c32fae85d
DTSTAMP:20260423T033221Z
SUMMARY:[männliche E-Jugend Runde] CVJM Möglingen  - CVJM Enzweihingen 
URL:https://www.eichenkreuzliga.de/handball/game/id/11433
DTSTART:20201107T110000
DTEND:20201107T120000
LOCATION:Stadionhalle\, 71696 Möglingen
END:VEVENT
END:VCALENDAR
