BEGIN:VCALENDAR
PRODID:-//eluceo/ical//2.0/EN
VERSION:2.0
CALSCALE:GREGORIAN
BEGIN:VEVENT
UID:f53a19692938b8802cef6a04261b4bd3
DTSTAMP:20260423T033124Z
SUMMARY:[männliche E-Jugend Runde] CVJM Möglingen  - CVJM  Walddorfhäsla
 ch 
URL:https://www.eichenkreuzliga.de/handball/game/id/11435
DTSTART:20201107T140000
DTEND:20201107T150000
LOCATION:Stadionhalle\, 71696 Möglingen
END:VEVENT
END:VCALENDAR
