BEGIN:VCALENDAR
PRODID:-//eluceo/ical//2.0/EN
VERSION:2.0
CALSCALE:GREGORIAN
BEGIN:VEVENT
UID:98d8e386ebd582448fd3f66410b9b3df
DTSTAMP:20260423T064641Z
SUMMARY:[männliche E-Jugend Runde] CVJM Hülben  - EK Höfingen 
URL:https://www.eichenkreuzliga.de/handball/game/id/11436
DTSTART:20201121T130000
DTEND:20201121T140000
LOCATION:Burgschulhalle\, 73257 Köngen
END:VEVENT
END:VCALENDAR
