BEGIN:VCALENDAR
PRODID:-//eluceo/ical//2.0/EN
VERSION:2.0
CALSCALE:GREGORIAN
BEGIN:VEVENT
UID:df52d6e170884981cecab79b4ae493e2
DTSTAMP:20260423T051203Z
SUMMARY:[männliche E-Jugend Runde] EK Köngen  - CVJM Kirchentellinsfurt 
URL:https://www.eichenkreuzliga.de/handball/game/id/11437
DTSTART:20201121T150000
DTEND:20201121T160000
LOCATION:Burgschulhalle\, 73257 Köngen
END:VEVENT
END:VCALENDAR
