BEGIN:VCALENDAR
PRODID:-//eluceo/ical//2.0/EN
VERSION:2.0
CALSCALE:GREGORIAN
BEGIN:VEVENT
UID:c78f1aa9a71a1f4fc3bb0de906f9f4ea
DTSTAMP:20260423T064641Z
SUMMARY:[männliche E-Jugend Runde] EK Höfingen  - CVJM Kirchentellinsfurt
  
URL:https://www.eichenkreuzliga.de/handball/game/id/11438
DTSTART:20201121T140000
DTEND:20201121T150000
LOCATION:Burgschulhalle\, 73257 Köngen
END:VEVENT
END:VCALENDAR
