BEGIN:VCALENDAR
PRODID:-//eluceo/ical//2.0/EN
VERSION:2.0
CALSCALE:GREGORIAN
BEGIN:VEVENT
UID:82d12fbfe02f0ba4e70e1e9289beb531
DTSTAMP:20260423T051301Z
SUMMARY:[männliche E-Jugend Runde] EK Köngen  - CVJM Hülben 
URL:https://www.eichenkreuzliga.de/handball/game/id/11439
DTSTART:20201121T120000
DTEND:20201121T130000
LOCATION:Burgschulhalle\, 73257 Köngen
END:VEVENT
END:VCALENDAR
