BEGIN:VCALENDAR
PRODID:-//eluceo/ical//2.0/EN
VERSION:2.0
CALSCALE:GREGORIAN
BEGIN:VEVENT
UID:05617c9be21613521cd1d2910630a3f0
DTSTAMP:20260423T052405Z
SUMMARY:[männliche E-Jugend Runde] CVJM Hagelloch - Kusterdingen 1 - CVJM 
 Enzweihingen 
URL:https://www.eichenkreuzliga.de/handball/game/id/11441
DTSTART:20210123T160000
DTEND:20210123T170000
LOCATION:Sporthalle Waldhäuser-Ost\, 72076 Tübingen
END:VEVENT
END:VCALENDAR
