BEGIN:VCALENDAR
PRODID:-//eluceo/ical//2.0/EN
VERSION:2.0
CALSCALE:GREGORIAN
BEGIN:VEVENT
UID:6aeb6f4c35dae804a8573abd95b26b29
DTSTAMP:20260423T052432Z
SUMMARY:[männliche E-Jugend Runde] CVJM Hülben  - CVJM Kusterdingen e.V. 
URL:https://www.eichenkreuzliga.de/handball/game/id/11445
DTSTART:20210124T162500
DTEND:20210124T172500
LOCATION:Sporthalle\, 72138 Kirchentellinsfurt
END:VEVENT
END:VCALENDAR
