BEGIN:VCALENDAR
PRODID:-//eluceo/ical//2.0/EN
VERSION:2.0
CALSCALE:GREGORIAN
BEGIN:VEVENT
UID:824e15317cefdeb5cc0598f4f204d7c7
DTSTAMP:20260423T052452Z
SUMMARY:[männliche E-Jugend Runde] CVJM Kirchentellinsfurt  - CVJM Kusterd
 ingen e.V. 
URL:https://www.eichenkreuzliga.de/handball/game/id/11446
DTSTART:20210124T134000
DTEND:20210124T144000
LOCATION:Sporthalle\, 72138 Kirchentellinsfurt
END:VEVENT
END:VCALENDAR
