BEGIN:VCALENDAR
PRODID:-//eluceo/ical//2.0/EN
VERSION:2.0
CALSCALE:GREGORIAN
BEGIN:VEVENT
UID:3fa1e389fce6c4bcbf8b9983f1b47664
DTSTAMP:20260423T052433Z
SUMMARY:[männliche E-Jugend Runde] CVJM Hülben  - CVJM Möglingen 
URL:https://www.eichenkreuzliga.de/handball/game/id/11447
DTSTART:20210124T143000
DTEND:20210124T153000
LOCATION:Sporthalle\, 72138 Kirchentellinsfurt
END:VEVENT
END:VCALENDAR
