BEGIN:VCALENDAR
PRODID:-//eluceo/ical//2.0/EN
VERSION:2.0
CALSCALE:GREGORIAN
BEGIN:VEVENT
UID:1406a1ea229bc4e580aa57503c23eb33
DTSTAMP:20260423T052432Z
SUMMARY:[männliche E-Jugend Runde] CVJM Kirchentellinsfurt  - CVJM Möglin
 gen 
URL:https://www.eichenkreuzliga.de/handball/game/id/11449
DTSTART:20210124T153500
DTEND:20210124T163500
LOCATION:Sporthalle\, 72138 Kirchentellinsfurt
END:VEVENT
END:VCALENDAR
