BEGIN:VCALENDAR
PRODID:-//eluceo/ical//2.0/EN
VERSION:2.0
CALSCALE:GREGORIAN
BEGIN:VEVENT
UID:14a9a449b2fd9fb22829abbd60e20622
DTSTAMP:20260423T064641Z
SUMMARY:[männliche E-Jugend Runde] CVJM SG Mössingen/Belsen  - EJW Münch
 ingen 
URL:https://www.eichenkreuzliga.de/handball/game/id/11452
DTSTART:20210124T140000
DTEND:20210124T150000
LOCATION:Gymnasiumsporthalle\, 73207 Plochingen
END:VEVENT
END:VCALENDAR
