BEGIN:VCALENDAR
PRODID:-//eluceo/ical//2.0/EN
VERSION:2.0
CALSCALE:GREGORIAN
BEGIN:VEVENT
UID:bb83713a8a396de33eaf079ce5983269
DTSTAMP:20260423T064748Z
SUMMARY:[männliche E-Jugend Runde] CVJM Plochingen a.K. - CVJM SG Mössing
 en/Belsen 
URL:https://www.eichenkreuzliga.de/handball/game/id/11454
DTSTART:20210124T170000
DTEND:20210124T180000
LOCATION:Gymnasiumsporthalle\, 73207 Plochingen
END:VEVENT
END:VCALENDAR
