BEGIN:VCALENDAR
PRODID:-//eluceo/ical//2.0/EN
VERSION:2.0
CALSCALE:GREGORIAN
BEGIN:VEVENT
UID:3fc306e6edf0d05b5bd7b6fb4edf5e59
DTSTAMP:20260423T081113Z
SUMMARY:[männliche E-Jugend Runde] CVJM HB Dußlingen-Gomaringen 1 - EK H
 öfingen 
URL:https://www.eichenkreuzliga.de/handball/game/id/11456
DTSTART:20210124T170000
DTEND:20210124T180000
LOCATION:Burgschulhalle\, 73257 Köngen
END:VEVENT
END:VCALENDAR
