BEGIN:VCALENDAR
PRODID:-//eluceo/ical//2.0/EN
VERSION:2.0
CALSCALE:GREGORIAN
BEGIN:VEVENT
UID:432ae77d103770c99c333dc780a1f4de
DTSTAMP:20260423T081113Z
SUMMARY:[männliche E-Jugend Runde] CVJM HB Dußlingen-Gomaringen 2 A.K. - 
 EK Höfingen 
URL:https://www.eichenkreuzliga.de/handball/game/id/11457
DTSTART:20210124T140000
DTEND:20210124T150000
LOCATION:Burgschulhalle\, 73257 Köngen
END:VEVENT
END:VCALENDAR
