BEGIN:VCALENDAR
PRODID:-//eluceo/ical//2.0/EN
VERSION:2.0
CALSCALE:GREGORIAN
BEGIN:VEVENT
UID:f25cb02e18a93a8f14baeb86677edb64
DTSTAMP:20260423T080820Z
SUMMARY:[männliche E-Jugend Runde] EK Köngen  - CVJM HB Dußlingen-Gomari
 ngen 2 A.K.
URL:https://www.eichenkreuzliga.de/handball/game/id/11458
DTSTART:20210124T160000
DTEND:20210124T170000
LOCATION:Burgschulhalle\, 73257 Köngen
END:VEVENT
END:VCALENDAR
