BEGIN:VCALENDAR
PRODID:-//eluceo/ical//2.0/EN
VERSION:2.0
CALSCALE:GREGORIAN
BEGIN:VEVENT
UID:b513634adb67e5a0c37deced9f0c2e9f
DTSTAMP:20260423T033227Z
SUMMARY:[männliche E-Jugend Runde] EK Köngen  - CVJM Enzweihingen 
URL:https://www.eichenkreuzliga.de/handball/game/id/11460
DTSTART:20210327T170000
DTEND:20210327T180000
LOCATION:Schulsporthalle\, 71665 Enzweihingen
END:VEVENT
END:VCALENDAR
