BEGIN:VCALENDAR
PRODID:-//eluceo/ical//2.0/EN
VERSION:2.0
CALSCALE:GREGORIAN
BEGIN:VEVENT
UID:5afd70372adc84595a35beaa85fc415f
DTSTAMP:20260423T064605Z
SUMMARY:[männliche E-Jugend Runde] CVJM Hagelloch - Kusterdingen 1 - EK Be
 rnhausen 1
URL:https://www.eichenkreuzliga.de/handball/game/id/11464
DTSTART:20210327T133000
DTEND:20210327T143000
LOCATION:Zeppelinhalle\, 70734 Fellbach
END:VEVENT
END:VCALENDAR
