BEGIN:VCALENDAR
PRODID:-//eluceo/ical//2.0/EN
VERSION:2.0
CALSCALE:GREGORIAN
BEGIN:VEVENT
UID:9ea282f64cd437f7d1bc6c49508c86da
DTSTAMP:20260423T052210Z
SUMMARY:[männliche E-Jugend Runde] CVJM SG Mössingen/Belsen  - CVJM Kirch
 entellinsfurt 
URL:https://www.eichenkreuzliga.de/handball/game/id/11468
DTSTART:20210327T120000
DTEND:20210327T130000
LOCATION:Jahnhalle 2\, 72116 Mössingen
END:VEVENT
END:VCALENDAR
