BEGIN:VCALENDAR
PRODID:-//eluceo/ical//2.0/EN
VERSION:2.0
CALSCALE:GREGORIAN
BEGIN:VEVENT
UID:29c98e317a1d1499fbaa2aef87d5ce7d
DTSTAMP:20260423T052453Z
SUMMARY:[männliche E-Jugend Runde] CVJM Kirchentellinsfurt  - CVJM Plochin
 gen a.K.
URL:https://www.eichenkreuzliga.de/handball/game/id/11469
DTSTART:20210327T130000
DTEND:20210327T140000
LOCATION:Jahnhalle 2\, 72116 Mössingen
END:VEVENT
END:VCALENDAR
