BEGIN:VCALENDAR
PRODID:-//eluceo/ical//2.0/EN
VERSION:2.0
CALSCALE:GREGORIAN
BEGIN:VEVENT
UID:f0375bd9b1dc897e066da4f7f7bf1dfd
DTSTAMP:20260423T064604Z
SUMMARY:[männliche E-Jugend Runde] EK Köngen  - CVJM HB Dußlingen-Gomari
 ngen 1
URL:https://www.eichenkreuzliga.de/handball/game/id/11455
DTSTART:20210124T130000
DTEND:20210124T140000
LOCATION:Burgschulhalle\, 73257 Köngen
END:VEVENT
END:VCALENDAR
